Workbook
Name \0: !#REF!
Name \0: !#REF!
Name \0: !#REF!
Name \0: !#REF!
Name \0: !#REF!
Name \a: [1]標單!#REF!
Name \a: [1]標單!#REF!
Name \a: [1]標單!#REF!
Name \a: [1]標單!#REF!
Name \a: [1]標單!#REF!
Name \b: !#REF!
Name \c: !#REF!
Name \d: [1]標單!#REF!
Name \f: [2]演奏廳各期計價!#REF!
Name \g: !#REF!
Name \h: !#REF!
Name \i: !#REF!
Name \l: !#REF!
Name \m: !#REF!
Name \o: !#REF!
Name \p: '[3]SRC-B3U2'!#REF!
Name \q: !#REF!
Name \r: [2]演奏廳各期計價!#REF!
Name \s: [4]預算總表!#REF!
Name \t: !#REF!
Name \w: !#REF!
Name \x: [1]標單!#REF!
Name \y: !#REF!
Name \z: [1]標單!#REF!
Name _．共_22頁: !#REF!
Name _____________cpi02: !#REF!
Name _____________cpi59: !#REF!
Name _____________cpi60: !#REF!
Name _____________cpi62: !#REF!
Name _____________cpi63: !#REF!
Name _____________cpi64: !#REF!
Name _____________cpi65: !#REF!
Name _____________cpi66: !#REF!
Name _____________cpi67: !#REF!
Name _____________cpi68: !#REF!
Name _____________cpi69: !#REF!
Name _____________cpi70: !#REF!
Name _____________cpi71: !#REF!
Name _____________cpi72: !#REF!
Name _____________cpi73: !#REF!
Name _____________cpi74: !#REF!
Name _____________cpi75: !#REF!
Name _____________cpi76: !#REF!
Name _____________cpi77: !#REF!
Name _____________cpi78: !#REF!
Name _____________cpi79: !#REF!
Name _____________cpi80: !#REF!
Name _____________cpi81: !#REF!
Name _____________cpi82: !#REF!
Name _____________cpi83: !#REF!
Name _____________cpi84: !#REF!
Name _____________cpi85: !#REF!
Name _____________cpi86: !#REF!
Name _____________cpi87: !#REF!
Name _____________cpi88: !#REF!

Sheet 表1-1(由實施者填寫)
A1: 表1-1 都市更新權利變換契稅試算表
A2: 實施者之應分配<實分配 共同負擔=實施者應分配 實施者之應分配>實分配 共同負擔=實施者實分配+實施者移轉予權利人所領取之價金 | I2: 共同負擔 | K2: 實施者應分配 | M2: 實施者實分配 | O2: 實施者移轉予權利人所領取之價金 | P2: =J2-N2 -> 0
A3: 權利人相關資料 | G3: 更新後 | T3: 差額價金繳交領取者 | X3: 本次課徵契稅 | AC3: 下次移轉減徵契稅40% 列入管制持分 (B-E) | AD3: 減、免徵法源依據 | AE3: 立契日 | AF3: 契稅收件編號
A4: 序號 | B4: 受配人姓名 | C4: 統一編號/ 身分證字號 | D4: 身分別 | E4: 房屋稅籍資料 | G4: 分配單元 | Q4: 預計繳納差額價金
G5: 應分配權利價值(元) | H5: 建築物 | M5: 停車位 | O5: 實分配權利價值(元)
D6: (原土地所有權人、實施者、權利變換關係人) | E6: 稅籍編號 | F6: 房屋現值 (A) | H6: 單元編號 | I6: 地址 | J6: 單元價值 (元) | K6: 權利範圍 (B) | L6: 價值小計(元) | M6: 車位價值(元) | N6: 價值小計(元) | T6: 繳交者 | U6: 領取者 | X6: 取得來源 (1.視為原有、2.折價抵付、3.找補取得或其他原因可減徵、4.找補取得或其他原因無減免) | Y6: 差額價金建物移轉持分 | AA6: 移轉持分之房屋評定現值 (F=A*E) | AB6: 核定契稅(元) 減徵40% (G=F*6%*0.6) 無減徵 (H=F*6%)
O7: 細項 (C) | P7: 總額 | Q7: 繳(元) 細項 (D) | R7: 繳(元) 總額 | S7: 領(元) | U7: 領取者 姓名 | V7: 統一編號/ 身分證字號 | W7: 身分別 (原土地所有權人、實施者) | Y7: 細項 [E=(D/C)*B] | Z7: 總和
X8: =IF(AND(D8="原土地所有權人", Q8=""), "1", IF(AND(D8="實施者", S8="", U8=""), "2",IF(AND(D8="實施者", S8="", W8="原土地所有權人"), "3",IF(AND(D8="原土地所有權人", S8="", OR(W8="原土地所有權人", W8="實施者")),IF(W8="原土地所有權人", "3", "4"),IF(AND(D8="權利變換關係人", S8<>"", W8=0), "3",IF(AND(D8="權利變換關係人", S8="", U8=0), "3",IF(AND(D8="權利變換關係人", S8="", OR(W8="原土地所有權人", W8="實施者")),IF(W8="原土地所有權人", "3", "4"), ""))))))) | Y8: =(Q8/O8)*K8 -> #DIV/0! | Z8: =(R8/O8)*K8 -> #DIV/0! | AA8: =IF(OR(D8="實施者", D8="權利變換關係人"), IF(Y8=0, F8*K8, F8*Y8), F8*Y8) -> #DIV/0! | AB8: =IF(W8="原土地所有權人", (AA8*6%*0.6), IF(W8="實施者", (AA8*6%),IF(AND(D8="權利變換關係人", ISNUMBER(S8)), (AA8*6%*0.6), IF(AND(W8="", D8="權利變換關係人"), (AA8*6%*0.6), 0)))) -> 0 | AC8: =IF(D8="實施者", 0,IF(D8="權利變換關係人", 0, IF(D8="原土地所有權人", IF(AND(Q8<>"", R8=""), 0, K8-Z8), ""))) | AD8: =IF(X8="1","非契稅課稅範圍", IF(X8="3","都更§67I④", IF(X8="2","都更§67I⑦",IF(X8="4","無減免")))) -> FALSE
X9: =IF(AND(D9="原土地所有權人", Q9=""), "1", IF(AND(D9="實施者", S9="", U9=""), "2",IF(AND(D9="實施者", S9="", W9="原土地所有權人"), "3",IF(AND(D9="原土地所有權人", S9="", OR(W9="原土地所有權人", W9="實施者")),IF(W9="原土地所有權人", "3", "4"),IF(AND(D9="權利變換關係人", S9<>"", W9=0), "3",IF(AND(D9="權利變換關係人", S9="", U9=0), "3",IF(AND(D9="權利變換關係人", S9="", OR(W9="原土地所有權人", W9="實施者")),IF(W9="原土地所有權人", "3", "4"), ""))))))) | Y9: =(Q9/O9)*K9 -> #DIV/0! | Z9: =(R9/O9)*K9 -> #DIV/0! | AA9: =IF(OR(D9="實施者", D9="權利變換關係人"), IF(Y9=0, F9*K9, F9*Y9), F9*Y9) -> #DIV/0! | AB9: =IF(W9="原土地所有權人", (AA9*6%*0.6), IF(W9="實施者", (AA9*6%),IF(AND(D9="權利變換關係人", ISNUMBER(S9)), (AA9*6%*0.6), IF(AND(W9="", D9="權利變換關係人"), (AA9*6%*0.6), 0)))) -> 0 | AC9: =IF(D9="實施者", 0,IF(D9="權利變換關係人", 0, IF(D9="原土地所有權人", IF(AND(Q9<>"", R9=""), 0, K9-Z9), ""))) | AD9: =IF(X9="1","非契稅課稅範圍", IF(X9="3","都更§67I④", IF(X9="2","都更§67I⑦",IF(X9="4","無減免")))) -> FALSE
X10: =IF(AND(D10="原土地所有權人", Q10=""), "1", IF(AND(D10="實施者", S10="", U10=""), "2",IF(AND(D10="實施者", S10="", W10="原土地所有權人"), "3",IF(AND(D10="原土地所有權人", S10="", OR(W10="原土地所有權人", W10="實施者")),IF(W10="原土地所有權人", "3", "4"),IF(AND(D10="權利變換關係人", S10<>"", W10=0), "3",IF(AND(D10="權利變換關係人", S10="", U10=0), "3",IF(AND(D10="權利變換關係人", S10="", OR(W10="原土地所有權人", W10="實施者")),IF(W10="原土地所有權人", "3", "4"), ""))))))) | Y10: =(Q10/O10)*K10 -> #DIV/0! | Z10: =(R10/O10)*K10 -> #DIV/0! | AA10: =IF(OR(D10="實施者", D10="權利變換關係人"), IF(Y10=0, F10*K10, F10*Y10), F10*Y10) -> #DIV/0! | AB10: =IF(W10="原土地所有權人", (AA10*6%*0.6), IF(W10="實施者", (AA10*6%),IF(AND(D10="權利變換關係人", ISNUMBER(S10)), (AA10*6%*0.6), IF(AND(W10="", D10="權利變換關係人"), (AA10*6%*0.6), 0)))) -> 0 | AC10: =IF(D10="實施者", 0,IF(D10="權利變換關係人", 0, IF(D10="原土地所有權人", IF(AND(Q10<>"", R10=""), 0, K10-Z10), ""))) | AD10: =IF(X10="1","非契稅課稅範圍", IF(X10="3","都更§67I④", IF(X10="2","都更§67I⑦",IF(X10="4","無減免")))) -> FALSE
X11: =IF(AND(D11="原土地所有權人", Q11=""), "1", IF(AND(D11="實施者", S11="", U11=""), "2",IF(AND(D11="實施者", S11="", W11="原土地所有權人"), "3",IF(AND(D11="原土地所有權人", S11="", OR(W11="原土地所有權人", W11="實施者")),IF(W11="原土地所有權人", "3", "4"),IF(AND(D11="權利變換關係人", S11<>"", W11=0), "3",IF(AND(D11="權利變換關係人", S11="", U11=0), "3",IF(AND(D11="權利變換關係人", S11="", OR(W11="原土地所有權人", W11="實施者")),IF(W11="原土地所有權人", "3", "4"), ""))))))) | Y11: =(Q11/O11)*K11 -> #DIV/0! | Z11: =(R11/O11)*K11 -> #DIV/0! | AA11: =IF(OR(D11="實施者", D11="權利變換關係人"), IF(Y11=0, F11*K11, F11*Y11), F11*Y11) -> #DIV/0! | AB11: =IF(W11="原土地所有權人", (AA11*6%*0.6), IF(W11="實施者", (AA11*6%),IF(AND(D11="權利變換關係人", ISNUMBER(S11)), (AA11*6%*0.6), IF(AND(W11="", D11="權利變換關係人"), (AA11*6%*0.6), 0)))) -> 0 | AC11: =IF(D11="實施者", 0,IF(D11="權利變換關係人", 0, IF(D11="原土地所有權人", IF(AND(Q11<>"", R11=""), 0, K11-Z11), ""))) | AD11: =IF(X11="1","非契稅課稅範圍", IF(X11="3","都更§67I④", IF(X11="2","都更§67I⑦",IF(X11="4","無減免")))) -> FALSE
X12: =IF(AND(D12="原土地所有權人", Q12=""), "1", IF(AND(D12="實施者", S12="", U12=""), "2",IF(AND(D12="實施者", S12="", W12="原土地所有權人"), "3",IF(AND(D12="原土地所有權人", S12="", OR(W12="原土地所有權人", W12="實施者")),IF(W12="原土地所有權人", "3", "4"),IF(AND(D12="權利變換關係人", S12<>"", W12=0), "3",IF(AND(D12="權利變換關係人", S12="", U12=0), "3",IF(AND(D12="權利變換關係人", S12="", OR(W12="原土地所有權人", W12="實施者")),IF(W12="原土地所有權人", "3", "4"), ""))))))) | Y12: =(Q12/O12)*K12 -> #DIV/0! | Z12: =(R12/O12)*K12 -> #DIV/0! | AA12: =IF(OR(D12="實施者", D12="權利變換關係人"), IF(Y12=0, F12*K12, F12*Y12), F12*Y12) -> #DIV/0! | AB12: =IF(W12="原土地所有權人", (AA12*6%*0.6), IF(W12="實施者", (AA12*6%),IF(AND(D12="權利變換關係人", ISNUMBER(S12)), (AA12*6%*0.6), IF(AND(W12="", D12="權利變換關係人"), (AA12*6%*0.6), 0)))) -> 0 | AC12: =IF(D12="實施者", 0,IF(D12="權利變換關係人", 0, IF(D12="原土地所有權人", IF(AND(Q12<>"", R12=""), 0, K12-Z12), ""))) | AD12: =IF(X12="1","非契稅課稅範圍", IF(X12="3","都更§67I④", IF(X12="2","都更§67I⑦",IF(X12="4","無減免")))) -> FALSE
X128: =IF(AND(D128="原土地所有權人", Q128=""), "1", IF(AND(D128="實施者", S128="", U128=""), "2",IF(AND(D128="實施者", S128="", W128="原土地所有權人"), "3",IF(AND(D128="原土地所有權人", S128="", OR(W128="原土地所有權人", W128="實施者")),IF(W128="原土地所有權人", "3", "4"),IF(AND(D128="權利變換關係人", S128<>"", W128=0), "3",IF(AND(D128="權利變換關係人", S128="", U128=0), "3",IF(AND(D128="權利變換關係人", S128="", OR(W128="原土地所有權人", W128="實施者")),IF(W128="原土地所有權人", "3", "4"), "")))))))
X129: =IF(AND(D129="原土地所有權人", Q129=""), "1", IF(AND(D129="實施者", S129="", U129=""), "2",IF(AND(D129="實施者", S129="", W129="原土地所有權人"), "3",IF(AND(D129="原土地所有權人", S129="", OR(W129="原土地所有權人", W129="實施者")),IF(W129="原土地所有權人", "3", "4"),IF(AND(D129="權利變換關係人", S129<>"", W129=0), "3",IF(AND(D129="權利變換關係人", S129="", U129=0), "3",IF(AND(D129="權利變換關係人", S129="", OR(W129="原土地所有權人", W129="實施者")),IF(W129="原土地所有權人", "3", "4"), "")))))))
X130: =IF(AND(D130="原土地所有權人", Q130=""), "1", IF(AND(D130="實施者", S130="", U130=""), "2",IF(AND(D130="實施者", S130="", W130="原土地所有權人"), "3",IF(AND(D130="原土地所有權人", S130="", OR(W130="原土地所有權人", W130="實施者")),IF(W130="原土地所有權人", "3", "4"),IF(AND(D130="權利變換關係人", S130<>"", W130=0), "3",IF(AND(D130="權利變換關係人", S130="", U130=0), "3",IF(AND(D130="權利變換關係人", S130="", OR(W130="原土地所有權人", W130="實施者")),IF(W130="原土地所有權人", "3", "4"), "")))))))
X131: =IF(AND(D131="原土地所有權人", Q131=""), "1", IF(AND(D131="實施者", S131="", U131=""), "2",IF(AND(D131="實施者", S131="", W131="原土地所有權人"), "3",IF(AND(D131="原土地所有權人", S131="", OR(W131="原土地所有權人", W131="實施者")),IF(W131="原土地所有權人", "3", "4"),IF(AND(D131="權利變換關係人", S131<>"", W131=0), "3",IF(AND(D131="權利變換關係人", S131="", U131=0), "3",IF(AND(D131="權利變換關係人", S131="", OR(W131="原土地所有權人", W131="實施者")),IF(W131="原土地所有權人", "3", "4"), "")))))))
X132: =IF(AND(D132="原土地所有權人", Q132=""), "1", IF(AND(D132="實施者", S132="", U132=""), "2",IF(AND(D132="實施者", S132="", W132="原土地所有權人"), "3",IF(AND(D132="原土地所有權人", S132="", OR(W132="原土地所有權人", W132="實施者")),IF(W132="原土地所有權人", "3", "4"),IF(AND(D132="權利變換關係人", S132<>"", W132=0), "3",IF(AND(D132="權利變換關係人", S132="", U132=0), "3",IF(AND(D132="權利變換關係人", S132="", OR(W132="原土地所有權人", W132="實施者")),IF(W132="原土地所有權人", "3", "4"), "")))))))
X133: =IF(AND(D133="原土地所有權人", Q133=""), "1", IF(AND(D133="實施者", S133="", U133=""), "2",IF(AND(D133="實施者", S133="", W133="原土地所有權人"), "3",IF(AND(D133="原土地所有權人", S133="", OR(W133="原土地所有權人", W133="實施者")),IF(W133="原土地所有權人", "3", "4"),IF(AND(D133="權利變換關係人", S133<>"", W133=0), "3",IF(AND(D133="權利變換關係人", S133="", U133=0), "3",IF(AND(D133="權利變換關係人", S133="", OR(W133="原土地所有權人", W133="實施者")),IF(W133="原土地所有權人", "3", "4"), "")))))))
X134: =IF(AND(D134="原土地所有權人", Q134=""), "1", IF(AND(D134="實施者", S134="", U134=""), "2",IF(AND(D134="實施者", S134="", W134="原土地所有權人"), "3",IF(AND(D134="原土地所有權人", S134="", OR(W134="原土地所有權人", W134="實施者")),IF(W134="原土地所有權人", "3", "4"),IF(AND(D134="權利變換關係人", S134<>"", W134=0), "3",IF(AND(D134="權利變換關係人", S134="", U134=0), "3",IF(AND(D134="權利變換關係人", S134="", OR(W134="原土地所有權人", W134="實施者")),IF(W134="原土地所有權人", "3", "4"), "")))))))
X135: =IF(AND(D135="原土地所有權人", Q135=""), "1", IF(AND(D135="實施者", S135="", U135=""), "2",IF(AND(D135="實施者", S135="", W135="原土地所有權人"), "3",IF(AND(D135="原土地所有權人", S135="", OR(W135="原土地所有權人", W135="實施者")),IF(W135="原土地所有權人", "3", "4"),IF(AND(D135="權利變換關係人", S135<>"", W135=0), "3",IF(AND(D135="權利變換關係人", S135="", U135=0), "3",IF(AND(D135="權利變換關係人", S135="", OR(W135="原土地所有權人", W135="實施者")),IF(W135="原土地所有權人", "3", "4"), "")))))))
X136: =IF(AND(D136="原土地所有權人", Q136=""), "1", IF(AND(D136="實施者", S136="", U136=""), "2",IF(AND(D136="實施者", S136="", W136="原土地所有權人"), "3",IF(AND(D136="原土地所有權人", S136="", OR(W136="原土地所有權人", W136="實施者")),IF(W136="原土地所有權人", "3", "4"),IF(AND(D136="權利變換關係人", S136<>"", W136=0), "3",IF(AND(D136="權利變換關係人", S136="", U136=0), "3",IF(AND(D136="權利變換關係人", S136="", OR(W136="原土地所有權人", W136="實施者")),IF(W136="原土地所有權人", "3", "4"), "")))))))
X137: =IF(AND(D137="原土地所有權人", Q137=""), "1", IF(AND(D137="實施者", S137="", U137=""), "2",IF(AND(D137="實施者", S137="", W137="原土地所有權人"), "3",IF(AND(D137="原土地所有權人", S137="", OR(W137="原土地所有權人", W137="實施者")),IF(W137="原土地所有權人", "3", "4"),IF(AND(D137="權利變換關係人", S137<>"", W137=0), "3",IF(AND(D137="權利變換關係人", S137="", U137=0), "3",IF(AND(D137="權利變換關係人", S137="", OR(W137="原土地所有權人", W137="實施者")),IF(W137="原土地所有權人", "3", "4"), "")))))))
X138: =IF(AND(D138="原土地所有權人", Q138=""), "1", IF(AND(D138="實施者", S138="", U138=""), "2",IF(AND(D138="實施者", S138="", W138="原土地所有權人"), "3",IF(AND(D138="原土地所有權人", S138="", OR(W138="原土地所有權人", W138="實施者")),IF(W138="原土地所有權人", "3", "4"),IF(AND(D138="權利變換關係人", S138<>"", W138=0), "3",IF(AND(D138="權利變換關係人", S138="", U138=0), "3",IF(AND(D138="權利變換關係人", S138="", OR(W138="原土地所有權人", W138="實施者")),IF(W138="原土地所有權人", "3", "4"), "")))))))
X139: =IF(AND(D139="原土地所有權人", Q139=""), "1", IF(AND(D139="實施者", S139="", U139=""), "2",IF(AND(D139="實施者", S139="", W139="原土地所有權人"), "3",IF(AND(D139="原土地所有權人", S139="", OR(W139="原土地所有權人", W139="實施者")),IF(W139="原土地所有權人", "3", "4"),IF(AND(D139="權利變換關係人", S139<>"", W139=0), "3",IF(AND(D139="權利變換關係人", S139="", U139=0), "3",IF(AND(D139="權利變換關係人", S139="", OR(W139="原土地所有權人", W139="實施者")),IF(W139="原土地所有權人", "3", "4"), "")))))))
... X231: =IF(AND(D231="原土地所有權人", Q231=""), "1", IF(AND(D231="實施者", S231="", U231=""), "2",IF(AND(D231="實施者", S231="", W231="原土地所有權人"), "3",IF(AND(D231="原土地所有權人", S231="", OR(W231="原土地所有權人", W231="實施者")),IF(W231="原土地所有權人", "3", "4"),IF(AND(D231="權利變換關係人", S231<>"", W231=0), "3",IF(AND(D231="權利變換關係人", S231="", U231=0), "3",IF(AND(D231="權利變換關係人", S231="", OR(W231="原土地所有權人", W231="實施者")),IF(W231="原土地所有權人", "3", "4"), "")))))))

Sheet 表1-2都更建檔管制表(供承辦人使用，實施者無須填寫)
A1: 使照編號(限英數字14碼) | B1: 使照核發日期 | C1: 折價抵付之原所有權人姓名 | D1: 折價抵付原所有權人之IDN/BAN | E1: 都更管制表
C2: OO股份有限公司[委託人:OOO(地主)等OO人] | L2: 重要提醒:視為原有的部分持分，請同仁自行建檔
A3: 序號 | B3: 使照編號(限英數字14碼) | C3: 使照核發日期 | D3: 稅籍編號 | E3: 原所有權人姓名 | F3: 原所有權人IDN/BAN | G3: 取得權利來源(請輸入1-6代碼) | H3: 取得權利來源權利範圍-分子 | I3: 取得權利來源權利範圍-分母 | J3: 公設移轉(Y/N) | K3: 管制持分 | L3: 下次移轉減徵契稅40%列入管制持分
A4: 1 | B4: =$A$2 -> 0 | C4: =$B$2 -> 0 | D4: =VALUE('表1-1(由實施者填寫)'!E8) -> 0 | E4: =IF(G4=2, $C$2, IF(G4=1, '表1-1(由實施者填寫)'!B8, IF(G4=3, IF('表1-1(由實施者填寫)'!D8="權利變換關係人", $C$2, '表1-1(由實施者填寫)'!U8), '表1-1(由實施者填寫)'!U8))) -> #VALUE! | F4: =IF(G4=2, $D$2, IF(G4=1, '表1-1(由實施者填寫)'!C8, IF(G4=3, IF('表1-1(由實施者填寫)'!D8="權利變換關係人", $D$2, '表1-1(由實施者填寫)'!V8), '表1-1(由實施者填寫)'!V8))) -> #VALUE! | G4: =VALUE('表1-1(由實施者填寫)'!X8) -> #VALUE! | H4: =LEFT(K4, FIND("/",K4) - 1) -> #VALUE! | I4: =RIGHT(K4, LEN(K4) - FIND("/", K4)) -> #VALUE! | J4: Y | K4: =IF(G4=3,IF(AND('表1-1(由實施者填寫)'!D8="權利變換關係人", '表1-1(由實施者填寫)'!W8=""),"100000/100000",IF('表1-1(由實施者填寫)'!Y8<>0,ROUND('表1-1(由實施者填寫)'!Y8 * 100000, 0) & "/100000","100000/100000")),IF(G4=2,IF('表1-1(由實施者填寫)'!Y8<>0, ROUND('表1-1(由實施者填寫)'!Y8 * 100000, 0) &"/100000","100000/100000"),ROUND(VALUE(IF(G4=1, '表1-1(由實施者填寫)'!AC8, '表1-1(由實施者填寫)'!Y8)) * 100000, 0) & "/100000")) -> #VALUE! | L4: =IF(AND('表1-1(由實施者填寫)'!AC8<>1, '表1-1(由實施者填寫)'!AC8<>0), (ROUND('表1-1(由實施者填寫)'!AC8, 5) * 100000) & "/100000", "0") -> #VALUE!
A5: 2 | B5: =$A$2 -> 0 | C5: =$B$2 -> 0 | D5: =VALUE('表1-1(由實施者填寫)'!E9) -> 0 | E5: =IF(G5=2, $C$2, IF(G5=1, '表1-1(由實施者填寫)'!B9, IF(G5=3, IF('表1-1(由實施者填寫)'!D9="權利變換關係人", $C$2, '表1-1(由實施者填寫)'!U9), '表1-1(由實施者填寫)'!U9))) -> #VALUE! | F5: =IF(G5=2, $D$2, IF(G5=1, '表1-1(由實施者填寫)'!C9, IF(G5=3, IF('表1-1(由實施者填寫)'!D9="權利變換關係人", $D$2, '表1-1(由實施者填寫)'!V9), '表1-1(由實施者填寫)'!V9))) -> #VALUE! | G5: =VALUE('表1-1(由實施者填寫)'!X9) -> #VALUE! | H5: =LEFT(K5, FIND("/",K5) - 1) -> #VALUE! | I5: =RIGHT(K5, LEN(K5) - FIND("/", K5)) -> #VALUE! | J5: Y | K5: =IF(G5=3,IF(AND('表1-1(由實施者填寫)'!D9="權利變換關係人", '表1-1(由實施者填寫)'!W9=""),"100000/100000",IF('表1-1(由實施者填寫)'!Y9<>0,ROUND('表1-1(由實施者填寫)'!Y9 * 100000, 0) & "/100000","100000/100000")),IF(G5=2,IF('表1-1(由實施者填寫)'!Y9<>0, ROUND('表1-1(由實施者填寫)'!Y9 * 100000, 0) &"/100000","100000/100000"),ROUND(VALUE(IF(G5=1, '表1-1(由實施者填寫)'!AC9, '表1-1(由實施者填寫)'!Y9)) * 100000, 0) & "/100000")) -> #VALUE! | L5: =IF(AND('表1-1(由實施者填寫)'!AC9<>1, '表1-1(由實施者填寫)'!AC9<>0), (ROUND('表1-1(由實施者填寫)'!AC9, 5) * 100000) & "/100000", "0") -> #VALUE!
A6: 3 | B6: =$A$2 -> 0 | C6: =$B$2 -> 0 | D6: =VALUE('表1-1(由實施者填寫)'!E10) -> 0 | E6: =IF(G6=2, $C$2, IF(G6=1, '表1-1(由實施者填寫)'!B10, IF(G6=3, IF('表1-1(由實施者填寫)'!D10="權利變換關係人", $C$2, '表1-1(由實施者填寫)'!U10), '表1-1(由實施者填寫)'!U10))) -> #VALUE! | F6: =IF(G6=2, $D$2, IF(G6=1, '表1-1(由實施者填寫)'!C10, IF(G6=3, IF('表1-1(由實施者填寫)'!D10="權利變換關係人", $D$2, '表1-1(由實施者填寫)'!V10), '表1-1(由實施者填寫)'!V10))) -> #VALUE! | G6: =VALUE('表1-1(由實施者填寫)'!X10) -> #VALUE! | H6: =LEFT(K6, FIND("/",K6) - 1) -> #VALUE! | I6: =RIGHT(K6, LEN(K6) - FIND("/", K6)) -> #VALUE! | J6: Y | K6: =IF(G6=3,IF(AND('表1-1(由實施者填寫)'!D10="權利變換關係人", '表1-1(由實施者填寫)'!W10=""),"100000/100000",IF('表1-1(由實施者填寫)'!Y10<>0,ROUND('表1-1(由實施者填寫)'!Y10 * 100000, 0) & "/100000","100000/100000")),IF(G6=2,IF('表1-1(由實施者填寫)'!Y10<>0, ROUND('表1-1(由實施者填寫)'!Y10 * 100000, 0) &"/100000","100000/100000"),ROUND(VALUE(IF(G6=1, '表1-1(由實施者填寫)'!AC10, '表1-1(由實施者填寫)'!Y10)) * 100000, 0) & "/100000")) -> #VALUE! | L6: =IF(AND('表1-1(由實施者填寫)'!AC10<>1, '表1-1(由實施者填寫)'!AC10<>0), (ROUND('表1-1(由實施者填寫)'!AC10, 5) * 100000) & "/100000", "0") -> #VALUE!
A7: 4 | B7: =$A$2 -> 0 | C7: =$B$2 -> 0 | D7: =VALUE('表1-1(由實施者填寫)'!E11) -> 0 | E7: =IF(G7=2, $C$2, IF(G7=1, '表1-1(由實施者填寫)'!B11, IF(G7=3, IF('表1-1(由實施者填寫)'!D11="權利變換關係人", $C$2, '表1-1(由實施者填寫)'!U11), '表1-1(由實施者填寫)'!U11))) -> #VALUE! | F7: =IF(G7=2, $D$2, IF(G7=1, '表1-1(由實施者填寫)'!C11, IF(G7=3, IF('表1-1(由實施者填寫)'!D11="權利變換關係人", $D$2, '表1-1(由實施者填寫)'!V11), '表1-1(由實施者填寫)'!V11))) -> #VALUE! | G7: =VALUE('表1-1(由實施者填寫)'!X11) -> #VALUE! | H7: =LEFT(K7, FIND("/",K7) - 1) -> #VALUE! | I7: =RIGHT(K7, LEN(K7) - FIND("/", K7)) -> #VALUE! | J7: Y | K7: =IF(G7=3,IF(AND('表1-1(由實施者填寫)'!D11="權利變換關係人", '表1-1(由實施者填寫)'!W11=""),"100000/100000",IF('表1-1(由實施者填寫)'!Y11<>0,ROUND('表1-1(由實施者填寫)'!Y11 * 100000, 0) & "/100000","100000/100000")),IF(G7=2,IF('表1-1(由實施者填寫)'!Y11<>0, ROUND('表1-1(由實施者填寫)'!Y11 * 100000, 0) &"/100000","100000/100000"),ROUND(VALUE(IF(G7=1, '表1-1(由實施者填寫)'!AC11, '表1-1(由實施者填寫)'!Y11)) * 100000, 0) & "/100000")) -> #VALUE! | L7: =IF(AND('表1-1(由實施者填寫)'!AC11<>1, '表1-1(由實施者填寫)'!AC11<>0), (ROUND('表1-1(由實施者填寫)'!AC11, 5) * 100000) & "/100000", "0") -> #VALUE!
A8: 5 | B8: =$A$2 -> 0 | C8: =$B$2 -> 0 | D8: =VALUE('表1-1(由實施者填寫)'!E12) -> 0 | E8: =IF(G8=2, $C$2, IF(G8=1, '表1-1(由實施者填寫)'!B12, IF(G8=3, IF('表1-1(由實施者填寫)'!D12="權利變換關係人", $C$2, '表1-1(由實施者填寫)'!U12), '表1-1(由實施者填寫)'!U12))) -> #VALUE! | F8: =IF(G8=2, $D$2, IF(G8=1, '表1-1(由實施者填寫)'!C12, IF(G8=3, IF('表1-1(由實施者填寫)'!D12="權利變換關係人", $D$2, '表1-1(由實施者填寫)'!V12), '表1-1(由實施者填寫)'!V12))) -> #VALUE! | G8: =VALUE('表1-1(由實施者填寫)'!X12) -> #VALUE! | H8: =LEFT(K8, FIND("/",K8) - 1) -> #VALUE! | I8: =RIGHT(K8, LEN(K8) - FIND("/", K8)) -> #VALUE! | J8: Y | K8: =IF(G8=3,IF(AND('表1-1(由實施者填寫)'!D12="權利變換關係人", '表1-1(由實施者填寫)'!W12=""),"100000/100000",IF('表1-1(由實施者填寫)'!Y12<>0,ROUND('表1-1(由實施者填寫)'!Y12 * 100000, 0) & "/100000","100000/100000")),IF(G8=2,IF('表1-1(由實施者填寫)'!Y12<>0, ROUND('表1-1(由實施者填寫)'!Y12 * 100000, 0) &"/100000","100000/100000"),ROUND(VALUE(IF(G8=1, '表1-1(由實施者填寫)'!AC12, '表1-1(由實施者填寫)'!Y12)) * 100000, 0) & "/100000")) -> #VALUE! | L8: =IF(AND('表1-1(由實施者填寫)'!AC12<>1, '表1-1(由實施者填寫)'!AC12<>0), (ROUND('表1-1(由實施者填寫)'!AC12, 5) * 100000) & "/100000", "0") -> #VALUE!
A9: 6 | B9: =$A$2 -> 0 | C9: =$B$2 -> 0 | D9: =VALUE('表1-1(由實施者填寫)'!E13) -> 0 | E9: =IF(G9=2, $C$2, IF(G9=1, '表1-1(由實施者填寫)'!B13, IF(G9=3, IF('表1-1(由實施者填寫)'!D13="權利變換關係人", $C$2, '表1-1(由實施者填寫)'!U13), '表1-1(由實施者填寫)'!U13))) -> 0 | F9: =IF(G9=2, $D$2, IF(G9=1, '表1-1(由實施者填寫)'!C13, IF(G9=3, IF('表1-1(由實施者填寫)'!D13="權利變換關係人", $D$2, '表1-1(由實施者填寫)'!V13), '表1-1(由實施者填寫)'!V13))) -> 0 | G9: =VALUE('表1-1(由實施者填寫)'!X13) -> 0 | H9: =LEFT(K9, FIND("/",K9) - 1) -> 0 | I9: =RIGHT(K9, LEN(K9) - FIND("/", K9)) -> 100000 | J9: Y | K9: =IF(G9=3,IF(AND('表1-1(由實施者填寫)'!D13="權利變換關係人", '表1-1(由實施者填寫)'!W13=""),"100000/100000",IF('表1-1(由實施者填寫)'!Y13<>0,ROUND('表1-1(由實施者填寫)'!Y13 * 100000, 0) & "/100000","100000/100000")),IF(G9=2,IF('表1-1(由實施者填寫)'!Y13<>0, ROUND('表1-1(由實施者填寫)'!Y13 * 100000, 0) &"/100000","100000/100000"),ROUND(VALUE(IF(G9=1, '表1-1(由實施者填寫)'!AC13, '表1-1(由實施者填寫)'!Y13)) * 100000, 0) & "/100000")) -> 0/100000 | L9: =IF(AND('表1-1(由實施者填寫)'!AC13<>1, '表1-1(由實施者填寫)'!AC13<>0), (ROUND('表1-1(由實施者填寫)'!AC13, 5) * 100000) & "/100000", "0") -> 0
A10: 7 | B10: =$A$2 -> 0 | C10: =$B$2 -> 0 | D10: =VALUE('表1-1(由實施者填寫)'!E14) -> 0 | E10: =IF(G10=2, $C$2, IF(G10=1, '表1-1(由實施者填寫)'!B14, IF(G10=3, IF('表1-1(由實施者填寫)'!D14="權利變換關係人", $C$2, '表1-1(由實施者填寫)'!U14), '表1-1(由實施者填寫)'!U14))) -> 0 | F10: =IF(G10=2, $D$2, IF(G10=1, '表1-1(由實施者填寫)'!C14, IF(G10=3, IF('表1-1(由實施者填寫)'!D14="權利變換關係人", $D$2, '表1-1(由實施者填寫)'!V14), '表1-1(由實施者填寫)'!V14))) -> 0 | G10: =VALUE('表1-1(由實施者填寫)'!X14) -> 0 | H10: =LEFT(K10, FIND("/",K10) - 1) -> 0 | I10: =RIGHT(K10, LEN(K10) - FIND("/", K10)) -> 100000 | J10: Y | K10: =IF(G10=3,IF(AND('表1-1(由實施者填寫)'!D14="權利變換關係人", '表1-1(由實施者填寫)'!W14=""),"100000/100000",IF('表1-1(由實施者填寫)'!Y14<>0,ROUND('表1-1(由實施者填寫)'!Y14 * 100000, 0) & "/100000","100000/100000")),IF(G10=2,IF('表1-1(由實施者填寫)'!Y14<>0, ROUND('表1-1(由實施者填寫)'!Y14 * 100000, 0) &"/100000","100000/100000"),ROUND(VALUE(IF(G10=1, '表1-1(由實施者填寫)'!AC14, '表1-1(由實施者填寫)'!Y14)) * 100000, 0) & "/100000")) -> 0/100000 | L10: =IF(AND('表1-1(由實施者填寫)'!AC14<>1, '表1-1(由實施者填寫)'!AC14<>0), (ROUND('表1-1(由實施者填寫)'!AC14, 5) * 100000) & "/100000", "0") -> 0
A11: 8 | B11: =$A$2 -> 0 | C11: =$B$2 -> 0 | D11: =VALUE('表1-1(由實施者填寫)'!E15) -> 0 | E11: =IF(G11=2, $C$2, IF(G11=1, '表1-1(由實施者填寫)'!B15, IF(G11=3, IF('表1-1(由實施者填寫)'!D15="權利變換關係人", $C$2, '表1-1(由實施者填寫)'!U15), '表1-1(由實施者填寫)'!U15))) -> 0 | F11: =IF(G11=2, $D$2, IF(G11=1, '表1-1(由實施者填寫)'!C15, IF(G11=3, IF('表1-1(由實施者填寫)'!D15="權利變換關係人", $D$2, '表1-1(由實施者填寫)'!V15), '表1-1(由實施者填寫)'!V15))) -> 0 | G11: =VALUE('表1-1(由實施者填寫)'!X15) -> 0 | H11: =LEFT(K11, FIND("/",K11) - 1) -> 0 | I11: =RIGHT(K11, LEN(K11) - FIND("/", K11)) -> 100000 | J11: Y | K11: =IF(G11=3,IF(AND('表1-1(由實施者填寫)'!D15="權利變換關係人", '表1-1(由實施者填寫)'!W15=""),"100000/100000",IF('表1-1(由實施者填寫)'!Y15<>0,ROUND('表1-1(由實施者填寫)'!Y15 * 100000, 0) & "/100000","100000/100000")),IF(G11=2,IF('表1-1(由實施者填寫)'!Y15<>0, ROUND('表1-1(由實施者填寫)'!Y15 * 100000, 0) &"/100000","100000/100000"),ROUND(VALUE(IF(G11=1, '表1-1(由實施者填寫)'!AC15, '表1-1(由實施者填寫)'!Y15)) * 100000, 0) & "/100000")) -> 0/100000 | L11: =IF(AND('表1-1(由實施者填寫)'!AC15<>1, '表1-1(由實施者填寫)'!AC15<>0), (ROUND('表1-1(由實施者填寫)'!AC15, 5) * 100000) & "/100000", "0") -> 0
A12: 9 | B12: =$A$2 -> 0 | C12: =$B$2 -> 0 | D12: =VALUE('表1-1(由實施者填寫)'!E16) -> 0 | E12: =IF(G12=2, $C$2, IF(G12=1, '表1-1(由實施者填寫)'!B16, IF(G12=3, IF('表1-1(由實施者填寫)'!D16="權利變換關係人", $C$2, '表1-1(由實施者填寫)'!U16), '表1-1(由實施者填寫)'!U16))) -> 0 | F12: =IF(G12=2, $D$2, IF(G12=1, '表1-1(由實施者填寫)'!C16, IF(G12=3, IF('表1-1(由實施者填寫)'!D16="權利變換關係人", $D$2, '表1-1(由實施者填寫)'!V16), '表1-1(由實施者填寫)'!V16))) -> 0 | G12: =VALUE('表1-1(由實施者填寫)'!X16) -> 0 | H12: =LEFT(K12, FIND("/",K12) - 1) -> 0 | I12: =RIGHT(K12, LEN(K12) - FIND("/", K12)) -> 100000 | J12: Y | K12: =IF(G12=3,IF(AND('表1-1(由實施者填寫)'!D16="權利變換關係人", '表1-1(由實施者填寫)'!W16=""),"100000/100000",IF('表1-1(由實施者填寫)'!Y16<>0,ROUND('表1-1(由實施者填寫)'!Y16 * 100000, 0) & "/100000","100000/100000")),IF(G12=2,IF('表1-1(由實施者填寫)'!Y16<>0, ROUND('表1-1(由實施者填寫)'!Y16 * 100000, 0) &"/100000","100000/100000"),ROUND(VALUE(IF(G12=1, '表1-1(由實施者填寫)'!AC16, '表1-1(由實施者填寫)'!Y16)) * 100000, 0) & "/100000")) -> 0/100000 | L12: =IF(AND('表1-1(由實施者填寫)'!AC16<>1, '表1-1(由實施者填寫)'!AC16<>0), (ROUND('表1-1(由實施者填寫)'!AC16, 5) * 100000) & "/100000", "0") -> 0
A13: 10 | B13: =$A$2 -> 0 | C13: =$B$2 -> 0 | D13: =VALUE('表1-1(由實施者填寫)'!E17) -> 0 | E13: =IF(G13=2, $C$2, IF(G13=1, '表1-1(由實施者填寫)'!B17, IF(G13=3, IF('表1-1(由實施者填寫)'!D17="權利變換關係人", $C$2, '表1-1(由實施者填寫)'!U17), '表1-1(由實施者填寫)'!U17))) -> 0 | F13: =IF(G13=2, $D$2, IF(G13=1, '表1-1(由實施者填寫)'!C17, IF(G13=3, IF('表1-1(由實施者填寫)'!D17="權利變換關係人", $D$2, '表1-1(由實施者填寫)'!V17), '表1-1(由實施者填寫)'!V17))) -> 0 | G13: =VALUE('表1-1(由實施者填寫)'!X17) -> 0 | H13: =LEFT(K13, FIND("/",K13) - 1) -> 0 | I13: =RIGHT(K13, LEN(K13) - FIND("/", K13)) -> 100000 | J13: Y | K13: =IF(G13=3,IF(AND('表1-1(由實施者填寫)'!D17="權利變換關係人", '表1-1(由實施者填寫)'!W17=""),"100000/100000",IF('表1-1(由實施者填寫)'!Y17<>0,ROUND('表1-1(由實施者填寫)'!Y17 * 100000, 0) & "/100000","100000/100000")),IF(G13=2,IF('表1-1(由實施者填寫)'!Y17<>0, ROUND('表1-1(由實施者填寫)'!Y17 * 100000, 0) &"/100000","100000/100000"),ROUND(VALUE(IF(G13=1, '表1-1(由實施者填寫)'!AC17, '表1-1(由實施者填寫)'!Y17)) * 100000, 0) & "/100000")) -> 0/100000 | L13: =IF(AND('表1-1(由實施者填寫)'!AC17<>1, '表1-1(由實施者填寫)'!AC17<>0), (ROUND('表1-1(由實施者填寫)'!AC17, 5) * 100000) & "/100000", "0") -> 0
A14: 11 | B14: =$A$2 -> 0 | C14: =$B$2 -> 0 | D14: =VALUE('表1-1(由實施者填寫)'!E18) -> 0 | E14: =IF(G14=2, $C$2, IF(G14=1, '表1-1(由實施者填寫)'!B18, IF(G14=3, IF('表1-1(由實施者填寫)'!D18="權利變換關係人", $C$2, '表1-1(由實施者填寫)'!U18), '表1-1(由實施者填寫)'!U18))) -> 0 | F14: =IF(G14=2, $D$2, IF(G14=1, '表1-1(由實施者填寫)'!C18, IF(G14=3, IF('表1-1(由實施者填寫)'!D18="權利變換關係人", $D$2, '表1-1(由實施者填寫)'!V18), '表1-1(由實施者填寫)'!V18))) -> 0 | G14: =VALUE('表1-1(由實施者填寫)'!X18) -> 0 | H14: =LEFT(K14, FIND("/",K14) - 1) -> 0 | I14: =RIGHT(K14, LEN(K14) - FIND("/", K14)) -> 100000 | J14: Y | K14: =IF(G14=3,IF(AND('表1-1(由實施者填寫)'!D18="權利變換關係人", '表1-1(由實施者填寫)'!W18=""),"100000/100000",IF('表1-1(由實施者填寫)'!Y18<>0,ROUND('表1-1(由實施者填寫)'!Y18 * 100000, 0) & "/100000","100000/100000")),IF(G14=2,IF('表1-1(由實施者填寫)'!Y18<>0, ROUND('表1-1(由實施者填寫)'!Y18 * 100000, 0) &"/100000","100000/100000"),ROUND(VALUE(IF(G14=1, '表1-1(由實施者填寫)'!AC18, '表1-1(由實施者填寫)'!Y18)) * 100000, 0) & "/100000")) -> 0/100000 | L14: =IF(AND('表1-1(由實施者填寫)'!AC18<>1, '表1-1(由實施者填寫)'!AC18<>0), (ROUND('表1-1(由實施者填寫)'!AC18, 5) * 100000) & "/100000", "0") -> 0
A15: 12 | B15: =$A$2 -> 0 | C15: =$B$2 -> 0 | D15: =VALUE('表1-1(由實施者填寫)'!E19) -> 0 | E15: =IF(G15=2, $C$2, IF(G15=1, '表1-1(由實施者填寫)'!B19, IF(G15=3, IF('表1-1(由實施者填寫)'!D19="權利變換關係人", $C$2, '表1-1(由實施者填寫)'!U19), '表1-1(由實施者填寫)'!U19))) -> 0 | F15: =IF(G15=2, $D$2, IF(G15=1, '表1-1(由實施者填寫)'!C19, IF(G15=3, IF('表1-1(由實施者填寫)'!D19="權利變換關係人", $D$2, '表1-1(由實施者填寫)'!V19), '表1-1(由實施者填寫)'!V19))) -> 0 | G15: =VALUE('表1-1(由實施者填寫)'!X19) -> 0 | H15: =LEFT(K15, FIND("/",K15) - 1) -> 0 | I15: =RIGHT(K15, LEN(K15) - FIND("/", K15)) -> 100000 | J15: Y | K15: =IF(G15=3,IF(AND('表1-1(由實施者填寫)'!D19="權利變換關係人", '表1-1(由實施者填寫)'!W19=""),"100000/100000",IF('表1-1(由實施者填寫)'!Y19<>0,ROUND('表1-1(由實施者填寫)'!Y19 * 100000, 0) & "/100000","100000/100000")),IF(G15=2,IF('表1-1(由實施者填寫)'!Y19<>0, ROUND('表1-1(由實施者填寫)'!Y19 * 100000, 0) &"/100000","100000/100000"),ROUND(VALUE(IF(G15=1, '表1-1(由實施者填寫)'!AC19, '表1-1(由實施者填寫)'!Y19)) * 100000, 0) & "/100000")) -> 0/100000 | L15: =IF(AND('表1-1(由實施者填寫)'!AC19<>1, '表1-1(由實施者填寫)'!AC19<>0), (ROUND('表1-1(由實施者填寫)'!AC19, 5) * 100000) & "/100000", "0") -> 0
... A22: 19 | B22: =$A$2 -> 0 | C22: =$B$2 -> 0 | D22: =VALUE('表1-1(由實施者填寫)'!E26) -> 0 | E22: =IF(G22=2, $C$2, IF(G22=1, '表1-1(由實施者填寫)'!B26, IF(G22=3, IF('表1-1(由實施者填寫)'!D26="權利變換關係人", $C$2, '表1-1(由實施者填寫)'!U26), '表1-1(由實施者填寫)'!U26))) -> 0 | F22: =IF(G22=2, $D$2, IF(G22=1, '表1-1(由實施者填寫)'!C26, IF(G22=3, IF('表1-1(由實施者填寫)'!D26="權利變換關係人", $D$2, '表1-1(由實施者填寫)'!V26), '表1-1(由實施者填寫)'!V26))) -> 0 | G22: =VALUE('表1-1(由實施者填寫)'!X26) -> 0 | H22: =LEFT(K22, FIND("/",K22) - 1) -> 0 | I22: =RIGHT(K22, LEN(K22) - FIND("/", K22)) -> 100000 | J22: Y | K22: =IF(G22=3,IF(AND('表1-1(由實施者填寫)'!D26="權利變換關係人", '表1-1(由實施者填寫)'!W26=""),"100000/100000",IF('表1-1(由實施者填寫)'!Y26<>0,ROUND('表1-1(由實施者填寫)'!Y26 * 100000, 0) & "/100000","100000/100000")),IF(G22=2,IF('表1-1(由實施者填寫)'!Y26<>0, ROUND('表1-1(由實施者填寫)'!Y26 * 100000, 0) &"/100000","100000/100000"),ROUND(VALUE(IF(G22=1, '表1-1(由實施者填寫)'!AC26, '表1-1(由實施者填寫)'!Y26)) * 100000, 0) & "/100000")) -> 0/100000 | L22: =IF(AND('表1-1(由實施者填寫)'!AC26<>1, '表1-1(由實施者填寫)'!AC26<>0), (ROUND('表1-1(由實施者填寫)'!AC26, 5) * 100000) & "/100000", "0") -> 0

Sheet 身分別
A1: 原土地所有權人
A2: 實施者
A3: 權利變換關係人

Sheet 契稅試算表填表須知及注意事項
A1: 表1-1都市更新權利變換契稅試算表填表須知及注意事項:
A2: 藍底部分請依權利變換計畫書表16土地及建築物分配清冊順序填寫，橘底部分請自行依查得資料填寫，灰底部分自動帶入公式產出本次課徵契稅
A3: 一、第(A)欄：請填寫序號。
A4: 二、第(B)欄：請填寫受配人姓名。(本欄涉及都更建檔管制表公式，如該房屋係向多人購買持分，亦請按列填寫受配人姓名)
A5: 三、第(C)欄：請填寫統一編號或身分證字號。(如有信託，請填寫受託人之統一編號)(本欄涉及都更建檔管制表公式，如該房屋係向多人購買持分，亦請按列填寫統一編號或身分證字號)
A6: 四、第(D)欄：請選擇權利人身分別(原土地所有權人、實施者、權利變換關係人，本欄涉及都更建檔管制表公式，如該房屋係向多人購買持分，亦請按列選擇權利人身分別)。
A7: 五、第(E)欄：請填寫房屋稅籍編號。(本欄涉及都更建檔管制表公式，如該房屋係向多人購買持分，亦請按列填寫稅籍編號)
A8: 六、第(F)欄：請填寫房屋現值。(本欄涉及灰底公式，如該房屋係向多人購買持分，亦請按列填寫該屋全部現值)
A9: 七、第(G)欄：請填寫應分配權利價值。
A10: 八、第(H)欄：請填寫單元編號。
A11: 九、第(I)欄：請依戶政編定門牌填寫地址。
A12: 十、第(J)欄：請填寫建築物單元價值。
... A29: 受配人 範例說明 1.原土地所有權人(視為原有) 序號1:原土地所有權人受配單筆建物，領取價金，單筆繳交者 序號1.1:原土地所有權人受配單筆建物，領取價金，有多筆繳交者 以上受配建物視為原有(都更§56)，非屬契稅課稅範圍，更新後移轉，契稅減徵40%(都更§67I④) --------------------------------------------------------------------------------------------------------------------------------------------------------------- 2.原土地所有權人(差額價金給付) 序號2:原土地所有權人受配單筆房屋，繳納差額價金，差額價金分別由多人領取 序號2.1:原土地所有權人受配多筆房屋稅，繳納差額價金，差額價金分別由多人領取 以上給付差額價金部分，契稅減徵40% ，剩餘持分於下次移轉時，契稅減徵40%(都更§67I④) --------------------------------------------------------------------------------------------------------------------------------------------------------------- 3.實施者 序號3:實施者受配單筆房屋，繳納差額價金，差額價金分別由多人領取，差額價金部分契稅減徵40%(都更§67I④) 序號3.1:實施者受配折價抵付之序號3房屋剩餘持分價值，免徵契稅(都更§67I⑦) 序號3.2:實施者受配折價抵付之房屋，免徵契稅(都更§67I⑦) 以上房屋於下次移轉，契稅無減徵 --------------------------------------------------------------------------------------------------------------------------------------------------------------- 4.權利變換關係人 序號4:權利變換關係人受配單筆房屋，領取價金，該筆房屋契稅減徵40%(都更§67I④) 序號4.1:權利變換關係人受配單筆房屋，該筆房屋契稅減徵40%(都更§67I④) 序號4.2:權利變換關係人受配單筆房屋，向原土地所有權人給付差額價金，該筆房屋契稅減徵40%(都更§67I④) 序號4.3:權利變換關係人受配單筆房屋，該受配及向原土地所有權人給付差額價金部分，契稅減徵40%(都更§67I④) 另剩餘持分向實施者給付差額價金部分，契稅無減徵 以上房屋於下次移轉，契稅無減徵

Sheet 表2-1(由實施者填寫)
A1: 表2-1都市更新權利變換土增稅找補表
A2: 來源 | B2: 表16-1土地及建築物分配清冊(土地所有權人及權利變換關係人) | G2: 表17-2土地登記清冊表 | H2: rev.5.0
A3: 序號 | B3: 受配人姓名 | C3: 應分配權利價值 (元) | D3: 實分配權利價值 (元) | E3: 最小分配單位價值： | G3: (大於者土增稅-40%) | H3: =NOW() -> 46197.447
E4: 預計繳納差額價金 (繳) | F4: 預計繳納差額價金 (領) | G4: 各單元權利範圍 合計 | H4: 移入 | I4: 原有 | J4: 移出 | K4: 備註
G5: 100000
E6: =IF(C6>D6,"",D6-C6) -> 0 | F6: =IF(C6<D6,"",C6-D6) -> 0 | H6: =IFERROR(ROUND(E6/D6*G6,0),0) -> 0 | I6: =G6-H6 -> 0 | J6: =IFERROR(ROUND($H$118*F6/$F$118,0),0) -> 0
E7: =IF(C7>D7,"",D7-C7) -> 0 | F7: =IF(C7<D7,"",C7-D7) -> 0 | H7: =IFERROR(ROUND(E7/D7*G7,0),0) -> 0 | I7: =G7-H7 -> 0 | J7: =IFERROR(ROUND($H$118*F7/$F$118,0),0) -> 0
E8: =IF(C8>D8,"",D8-C8) -> 0 | F8: =IF(C8<D8,"",C8-D8) -> 0 | H8: =IFERROR(ROUND(E8/D8*G8,0),0) -> 0 | I8: =G8-H8 -> 0 | J8: =IFERROR(ROUND($H$118*F8/$F$118,0),0) -> 0
E9: =IF(C9>D9,"",D9-C9) -> 0 | F9: =IF(C9<D9,"",C9-D9) -> 0 | H9: =IFERROR(ROUND(E9/D9*G9,0),0) -> 0 | I9: =G9-H9 -> 0 | J9: =IFERROR(ROUND($H$118*F9/$F$118,0),0) -> 0
E10: =IF(C10>D10,"",D10-C10) -> 0 | F10: =IF(C10<D10,"",C10-D10) -> 0 | H10: =IFERROR(ROUND(E10/D10*G10,0),0) -> 0 | I10: =G10-H10 -> 0 | J10: =IFERROR(ROUND($H$118*F10/$F$118,0),0) -> 0
E11: =IF(C11>D11,"",D11-C11) -> 0 | F11: =IF(C11<D11,"",C11-D11) -> 0 | H11: =IFERROR(ROUND(E11/D11*G11,0),0) -> 0 | I11: =G11-H11 -> 0 | J11: =IFERROR(ROUND($H$118*F11/$F$118,0),0) -> 0 | XFD11: =SUM(A11:XFC11) -> 0
E12: =IF(C12>D12,"",D12-C12) -> 0 | F12: =IF(C12<D12,"",C12-D12) -> 0 | H12: =IFERROR(ROUND(E12/D12*G12,0),0) -> 0 | I12: =G12-H12 -> 0 | J12: =IFERROR(ROUND($H$118*F12/$F$118,0),0) -> 0
E13: =IF(C13>D13,"",D13-C13) -> 0 | F13: =IF(C13<D13,"",C13-D13) -> 0 | H13: =IFERROR(ROUND(E13/D13*G13,0),0) -> 0 | I13: =G13-H13 -> 0 | J13: =IFERROR(ROUND($H$118*F13/$F$118,0),0) -> 0
E14: =IF(C14>D14,"",D14-C14) -> 0 | F14: =IF(C14<D14,"",C14-D14) -> 0 | H14: =IFERROR(ROUND(E14/D14*G14,0),0) -> 0 | I14: =G14-H14 -> 0 | J14: =IFERROR(ROUND($H$118*F14/$F$118,0),0) -> 0
E15: =IF(C15>D15,"",D15-C15) -> 0 | F15: =IF(C15<D15,"",C15-D15) -> 0 | H15: =IFERROR(ROUND(E15/D15*G15,0),0) -> 0 | I15: =G15-H15 -> 0 | J15: =IFERROR(ROUND($H$118*F15/$F$118,0),0) -> 0
E16: =IF(C16>D16,"",D16-C16) -> 0 | F16: =IF(C16<D16,"",C16-D16) -> 0 | H16: =IFERROR(ROUND(E16/D16*G16,0),0) -> 0 | I16: =G16-H16 -> 0 | J16: =IFERROR(ROUND($H$118*F16/$F$118,0),0) -> 0
E17: =IF(C17>D17,"",D17-C17) -> 0 | F17: =IF(C17<D17,"",C17-D17) -> 0 | H17: =IFERROR(ROUND(E17/D17*G17,0),0) -> 0 | I17: =G17-H17 -> 0 | J17: =IFERROR(ROUND($H$118*F17/$F$118,0),0) -> 0
E18: =IF(C18>D18,"",D18-C18) -> 0 | F18: =IF(C18<D18,"",C18-D18) -> 0 | H18: =IFERROR(ROUND(E18/D18*G18,0),0) -> 0 | I18: =G18-H18 -> 0 | J18: =IFERROR(ROUND($H$118*F18/$F$118,0),0) -> 0
E19: =IF(C19>D19,"",D19-C19) -> 0 | F19: =IF(C19<D19,"",C19-D19) -> 0 | H19: =IFERROR(ROUND(E19/D19*G19,0),0) -> 0 | I19: =G19-H19 -> 0 | J19: =IFERROR(ROUND($H$118*F19/$F$118,0),0) -> 0
E20: =IF(C20>D20,"",D20-C20) -> 0 | F20: =IF(C20<D20,"",C20-D20) -> 0 | H20: =IFERROR(ROUND(E20/D20*G20,0),0) -> 0 | I20: =G20-H20 -> 0 | J20: =IFERROR(ROUND($H$118*F20/$F$118,0),0) -> 0
E21: =IF(C21>D21,"",D21-C21) -> 0 | F21: =IF(C21<D21,"",C21-D21) -> 0 | H21: =IFERROR(ROUND(E21/D21*G21,0),0) -> 0 | I21: =G21-H21 -> 0 | J21: =IFERROR(ROUND($H$118*F21/$F$118,0),0) -> 0
E22: =IF(C22>D22,"",D22-C22) -> 0 | F22: =IF(C22<D22,"",C22-D22) -> 0 | H22: =IFERROR(ROUND(E22/D22*G22,0),0) -> 0 | I22: =G22-H22 -> 0 | J22: =IFERROR(ROUND($H$118*F22/$F$118,0),0) -> 0
E23: =IF(C23>D23,"",D23-C23) -> 0 | F23: =IF(C23<D23,"",C23-D23) -> 0 | H23: =IFERROR(ROUND(E23/D23*G23,0),0) -> 0 | I23: =G23-H23 -> 0 | J23: =IFERROR(ROUND($H$118*F23/$F$118,0),0) -> 0
... E100: =IF(C100>D100,"",D100-C100) -> 0 | F100: =IF(C100<D100,"",C100-D100) -> 0 | H100: =IFERROR(ROUND(E100/D100*G100,0),0) -> 0 | I100: =G100-H100 -> 0 | J100: =IFERROR(ROUND($H$118*F100/$F$118,0),0) -> 0
B101: 小計 | C101: =SUM(C6:C100) -> 0 | D101: =SUM(D6:D100) -> 0 | E101: =SUM(E6:E100) -> 0 | F101: =SUM(F6:F100) -> 0 | G101: =SUM(G6:G100) -> 0 | H101: =SUM(H6:H100) -> 0 | I101: =SUM(I6:I100) -> 0 | J101: =SUM(J6:J100) -> 0
A102: 來源 | B102: 表16-2土地及建築物分配清冊(實施者) | G102: 表17-2土地登記清冊表
B103: 實施者姓名 | C103: 應分配權利價值(元) | D103: 實分配權利價值(元) | E103: 預計繳納差額價金(繳) | F103: 預計繳納差額價金(領) | G103: 各單元權利範圍 合計 | H103: 移入 | I103: 共同負擔 | J103: 移出 | K103: 容積移轉
E104: =IF(C104>D104,"",D104-C104) -> 0 | F104: =IF(C104<D104,"",C104-D104) -> 0 | H104: =IFERROR(ROUND(E104/D104*G104,0),0) -> 0 | I104: =G104-H104+J104 -> 0 | J104: =IFERROR(ROUND($H$118*F104/$F$118,0),0) -> 0 | K104: =I117 -> 0
B105: 小計 | C105: =SUM(C104:C104) -> 0 | D105: =SUM(D104:D104) -> 0 | E105: =SUM(E104:E104) -> 0 | F105: =SUM(F104:F104) -> 0 | G105: =SUM(G104:G104) -> 0 | H105: =SUM(H104:H104) -> 0 | I105: =SUM(I104:I104) -> 0 | J105: =SUM(J104:J104) -> 0 | K105: =SUM(K104:K104) -> 0
A106: 來源 | B106: 表16-1土地及建築物分配清冊(土地所有權人及權利變換關係人) | G106: 表17-2土地登記清冊表
B107: 權利變換關係人 | C107: 應分配權利價值(元) | D107: 實分配權利價值(元) | E107: 預計繳納差額價金(繳) | F107: 預計繳納差額價金(領) | G107: 各單元權利範圍 合計 | H107: 移入 | I107: 記存 | J107: 移出 | K107: 備註
E108: =IF(C108>D108,"",D108-C108) -> 0 | F108: =IF(C108<D108,"",C108-D108) -> 0 | H108: =IFERROR(ROUND(E108/D108*G108,0),0) -> 0 | I108: =G108-H108+J108 -> 0 | J108: =IFERROR(ROUND($H$118*F108/$F$118,0),0) -> 0
E109: =IF(C109>D109,"",D109-C109) -> 0 | F109: =IF(C109<D109,"",C109-D109) -> 0 | H109: =IFERROR(ROUND(E109/D109*G109,0),0) -> 0 | I109: =G109-H109+J109 -> 0 | J109: =IFERROR(ROUND($H$118*F109/$F$118,0),0) -> 0
E110: =IF(C110>D110,"",D110-C110) -> 0 | F110: =IF(C110<D110,"",C110-D110) -> 0 | H110: =IFERROR(ROUND(E110/D110*G110,0),0) -> 0 | I110: =G110-H110+J110 -> 0 | J110: =IFERROR(ROUND($H$118*F110/$F$118,0),0) -> 0
B111: 小計 | C111: =SUM(C108:C110) -> 0 | D111: =SUM(D108:D110) -> 0 | E111: =SUM(E108:E110) -> 0 | F111: =SUM(F108:F110) -> 0 | G111: =SUM(G108:G110) -> 0 | H111: =SUM(H108:H110) -> 0 | I111: =SUM(I108:I110) -> 0 | J111: =SUM(J108:J110) -> 0
A112: 來源 | B112: 表16-3土地及建築物分配清冊(現地安置戶) | G112: 表17-2土地登記清冊表
B113: 安置戶姓名 | C113: 協議可分配價值 (元) | D113: 實分配權利價值 (元) | E113: 預計繳納差額價金 (繳) | F113: 預計繳納差額價金 (領) | G113: 各單元權利範圍 合計 | H113: 移入 | I113: 容獎持分 | J113: 移出 | K113: 備註
E114: =IF(C114>D114,"",D114-C114) -> 0 | F114: =IF(C114<D114,"",C114-D114) -> 0 | H114: =IFERROR(ROUND(E114/D114*G114,0),0) -> 0 | I114: =G114-H114+J114 -> 0 | J114: =IFERROR(ROUND($H$118*F114/$F$118,0),0) -> 0
E115: =IF(C115>D115,"",D115-C115) -> 0 | F115: =IF(C115<D115,"",C115-D115) -> 0 | H115: =IFERROR(ROUND(E115/D115*G115,0),0) -> 0 | I115: =G115-H115+J115 -> 0 | J115: =IFERROR(ROUND($H$118*F115/$F$118,0),0) -> 0
E116: =IF(C116>D116,"",D116-C116) -> 0 | F116: =IF(C116<D116,"",C116-D116) -> 0 | H116: =IFERROR(ROUND(E116/D116*G116,0),0) -> 0 | I116: =G116-H116+J116 -> 0 | J116: =IFERROR(ROUND($H$118*F116/$F$118,0),0) -> 0
B117: 小計 | C117: =SUM(C114:C116) -> 0 | D117: =SUM(D114:D116) -> 0 | E117: =SUM(E114:E116) -> 0 | F117: =SUM(F114:F116) -> 0 | G117: =SUM(G114:G116) -> 0 | H117: =SUM(H114:H116) -> 0 | I117: =SUM(I114:I116) -> 0 | J117: =SUM(J114:J116) -> 0
B118: 合計 | C118: =SUM(C101,C105,C111,C117) -> 0 | D118: =SUM(D101,D105,D111,D117) -> 0 | E118: =SUM(E101,E105,E111,E117) -> 0 | F118: =SUM(F101,F105,F111,F117) -> 0 | G118: =SUM(G101,G105,G111,G117) -> 0 | H118: =SUM(H101,H105,H111,H117) -> 0 | J118: =J101+J105+J114 -> 0
A120: 註1：灰底、橘底設有公式，請勿修改或刪除
A121: 註2：白底列不敷使用時，請複製白底列並以【插入複製儲存格】增加
D122: 身分別 | E122: 登載權利 | F122: 移出 | G122: 移入 | H122: 備註
D123: 地主 | E123: =G101 -> 0 | F123: =J101 -> 0 | G123: =H101 -> 0 | H123: 視為原有= | I123: =E123-G123 -> 0
D124: 實施者 | E124: =G105 -> 0 | F124: =J105 -> 0 | G124: =H105 -> 0 | H124: 共同負擔= | I124: =E124-G124+F124 -> 0
D125: 權利變換關係人 | E125: =G111 -> 0 | F125: =J111 -> 0 | G125: =H111 -> 0 | H125: 都更記存= | I125: =E125-G125+F125 -> 0
D126: 安置戶 | E126: =G117 -> 0 | F126: =J117 -> 0 | G126: =H117 -> 0 | H126: 容積獎勵= | I126: =E126-G126+F126 -> 0
D127: 其他
D128: 合計 | E128: =SUM(E123:E127) -> 0 | F128: =SUM(F123:F127) -> 0 | G128: =SUM(G123:G127) -> 0

Sheet 表2-2(由實施者填寫)
A1: 表2-2都市更新權利變換土增稅試算表 | U1: rev.5.0 | V1: =NOW() -> 46197.447
A2: 來源 | B2: 土地謄本 | M2: 表17-1地籍整理計畫表 | T2: 土地謄本 | U2: 課稅情形 | X2: 物價 指數
A3: 序號 | B3: 所有權人 | C3: 統一編號 | D3: 土地更新前原載情形 | M3: 土地更新後情形 | T3: 長期持有 減徵起算日 (土地謄本)
U4: 都更條例第67條第1項
D5: 標示部 | F5: 權利範圍 | H5: 持分 | I5: 年月 | J5: 原地價現值 | K5: 權利變換計畫發布(年) | M5: 標示部 | O5: 土地公告現值 | P5: 權利範圍 | Q5: 土地現值 總額 | R5: 年月 | S5: 合併後原地價 | U5: 已達：4款(-40%) 未達：6款(免徵) | V5: 7款(免徵) | W5: 4款(-40%) 列管(avm341)
D6: 地號 | E6: 面積 (㎡) | F6: 分子 | G6: 分母 | H6: 面積(m2) | K6: 公告 現值 | L6: 土地現值 總額 | M6: 地號 | N6: 面積 (㎡) | P6: ='表2-1(由實施者填寫)'!G5 -> 100000
E7: A | F7: B | G7: C | H7: D=A*B/C | K7: E | L7: F=D*E | N7: G | O7: H=ΣF/G | P7: I=F/ΣF*分母 | Q7: J=G*H*I/分母 | U7: 移出 | V7: 共同負擔 | W7: 原有
H8: =IFERROR(E8*F8/G8,0) -> 0 | L8: =H8*K8 -> 0 | O8: =IFERROR($L$201/N8,0) -> 0 | P8: =IFERROR(L8/$L$201*$P$6,0) -> 0 | Q8: =IFERROR(O8*N8*P8/$P$6,0) -> 0 | R8: =I8 -> 0 | S8: =J8 -> 0 | U8: =IF(COUNTIF(B8:$B$200, B8)=1, ROUND(SUMIF('表2-1(由實施者填寫)'!$B$6:$B$100, "*"&MID(B8,IFERROR(FIND("/",B8)+1,1),99)&"*", '表2-1(由實施者填寫)'!$J$6:$J$100) - SUMIFS($U$7:U7, $B$7:B7, B8),0), ROUND(IFERROR(SUMIF('表2-1(由實施者填寫)'!$B$6:$B$100,"*"&MID(B8,IFERROR(FIND("/",B8)+1,1),99)&"*",'表2-1(由實施者填寫)'!$J$6:$J$100)*P8/SUMIF($B$8:$B$200,B8,$P$8:$P$200), 0), 0)) -> 0 | V8: =IF(COUNTA($B$8:B8)=COUNTA($B$8:$B$1000),ROUND('表2-1(由實施者填寫)'!$I$105-SUM($V$8:INDIRECT("V"&(ROW()-1))),0), ROUND(IFERROR('表2-1(由實施者填寫)'!$I$105*P8/$P$201,0),0)) -> 0 | W8: =IF(COUNTIF(B8:$B$200, B8)=1, SUMIF('表2-1(由實施者填寫)'!$B$6:$B$100, "*" & SUBSTITUTE(MID(B8, IFERROR(FIND("/", B8)+1, 1), 99), "(地主)", "") & "*", '表2-1(由實施者填寫)'!$I$6:$I$100) - SUMIFS($W$7:W7, $B$7:B7, B8), ROUND(IFERROR(SUMIF('表2-1(由實施者填寫)'!$B$6:$B$100, "*" & SUBSTITUTE(MID(B8, IFERROR(FIND("/", B8)+1, 1), 99), "(地主)", "") & "*", '表2-1(由實施者填寫)'!$I$6:$I$100) * P8 / SUMIF($B$8:$B$200, B8, $P$8:$P$200), 0), 0)) -> 0 | X8: =IFERROR(INDEX(物價指數!$B$2:$M$84, MATCH(LEFT(R8,3), 物價指數!$A$2:$A$84, 0), MATCH(RIGHT(R8,2),物價指數!$B$1:$M$1, 0)),0) -> 0
H9: =IFERROR(E9*F9/G9,0) -> 0 | L9: =H9*K9 -> 0 | O9: =IFERROR($L$201/N9,0) -> 0 | P9: =IFERROR(L9/$L$201*$P$6,0) -> 0 | Q9: =IFERROR(O9*N9*P9/$P$6,0) -> 0 | R9: =I9 -> 0 | S9: =J9 -> 0 | U9: =IF(COUNTIF(B9:$B$200, B9)=1, ROUND(SUMIF('表2-1(由實施者填寫)'!$B$6:$B$100, "*"&MID(B9,IFERROR(FIND("/",B9)+1,1),99)&"*", '表2-1(由實施者填寫)'!$J$6:$J$100) - SUMIFS($U$7:U8, $B$7:B8, B9),0), ROUND(IFERROR(SUMIF('表2-1(由實施者填寫)'!$B$6:$B$100,"*"&MID(B9,IFERROR(FIND("/",B9)+1,1),99)&"*",'表2-1(由實施者填寫)'!$J$6:$J$100)*P9/SUMIF($B$8:$B$200,B9,$P$8:$P$200), 0), 0)) -> 0 | V9: =IF(COUNTA($B$8:B9)=COUNTA($B$8:$B$1000),ROUND('表2-1(由實施者填寫)'!$I$105-SUM($V$8:INDIRECT("V"&(ROW()-1))),0), ROUND(IFERROR('表2-1(由實施者填寫)'!$I$105*P9/$P$201,0),0)) -> 0 | W9: =IF(COUNTIF(B9:$B$200, B9)=1, SUMIF('表2-1(由實施者填寫)'!$B$6:$B$100, "*" & SUBSTITUTE(MID(B9, IFERROR(FIND("/", B9)+1, 1), 99), "(地主)", "") & "*", '表2-1(由實施者填寫)'!$I$6:$I$100) - SUMIFS($W$7:W8, $B$7:B8, B9), ROUND(IFERROR(SUMIF('表2-1(由實施者填寫)'!$B$6:$B$100, "*" & SUBSTITUTE(MID(B9, IFERROR(FIND("/", B9)+1, 1), 99), "(地主)", "") & "*", '表2-1(由實施者填寫)'!$I$6:$I$100) * P9 / SUMIF($B$8:$B$200, B9, $P$8:$P$200), 0), 0)) -> 0 | X9: =IFERROR(INDEX(物價指數!$B$2:$M$84, MATCH(LEFT(R9,3), 物價指數!$A$2:$A$84, 0), MATCH(RIGHT(R9,2),物價指數!$B$1:$M$1, 0)),0) -> 0
H10: =IFERROR(E10*F10/G10,0) -> 0 | L10: =H10*K10 -> 0 | O10: =IFERROR($L$201/N10,0) -> 0 | P10: =IFERROR(L10/$L$201*$P$6,0) -> 0 | Q10: =IFERROR(O10*N10*P10/$P$6,0) -> 0 | R10: =I10 -> 0 | S10: =J10 -> 0 | U10: =IF(COUNTIF(B10:$B$200, B10)=1, ROUND(SUMIF('表2-1(由實施者填寫)'!$B$6:$B$100, "*"&MID(B10,IFERROR(FIND("/",B10)+1,1),99)&"*", '表2-1(由實施者填寫)'!$J$6:$J$100) - SUMIFS($U$7:U9, $B$7:B9, B10),0), ROUND(IFERROR(SUMIF('表2-1(由實施者填寫)'!$B$6:$B$100,"*"&MID(B10,IFERROR(FIND("/",B10)+1,1),99)&"*",'表2-1(由實施者填寫)'!$J$6:$J$100)*P10/SUMIF($B$8:$B$200,B10,$P$8:$P$200), 0), 0)) -> 0 | V10: =IF(COUNTA($B$8:B10)=COUNTA($B$8:$B$1000),ROUND('表2-1(由實施者填寫)'!$I$105-SUM($V$8:INDIRECT("V"&(ROW()-1))),0), ROUND(IFERROR('表2-1(由實施者填寫)'!$I$105*P10/$P$201,0),0)) -> 0 | W10: =IF(COUNTIF(B10:$B$200, B10)=1, SUMIF('表2-1(由實施者填寫)'!$B$6:$B$100, "*" & SUBSTITUTE(MID(B10, IFERROR(FIND("/", B10)+1, 1), 99), "(地主)", "") & "*", '表2-1(由實施者填寫)'!$I$6:$I$100) - SUMIFS($W$7:W9, $B$7:B9, B10), ROUND(IFERROR(SUMIF('表2-1(由實施者填寫)'!$B$6:$B$100, "*" & SUBSTITUTE(MID(B10, IFERROR(FIND("/", B10)+1, 1), 99), "(地主)", "") & "*", '表2-1(由實施者填寫)'!$I$6:$I$100) * P10 / SUMIF($B$8:$B$200, B10, $P$8:$P$200), 0), 0)) -> 0 | X10: =IFERROR(INDEX(物價指數!$B$2:$M$84, MATCH(LEFT(R10,3), 物價指數!$A$2:$A$84, 0), MATCH(RIGHT(R10,2),物價指數!$B$1:$M$1, 0)),0) -> 0
H11: =IFERROR(E11*F11/G11,0) -> 0 | L11: =H11*K11 -> 0 | O11: =IFERROR($L$201/N11,0) -> 0 | P11: =IFERROR(L11/$L$201*$P$6,0) -> 0 | Q11: =IFERROR(O11*N11*P11/$P$6,0) -> 0 | R11: =I11 -> 0 | S11: =J11 -> 0 | U11: =IF(COUNTIF(B11:$B$200, B11)=1, ROUND(SUMIF('表2-1(由實施者填寫)'!$B$6:$B$100, "*"&MID(B11,IFERROR(FIND("/",B11)+1,1),99)&"*", '表2-1(由實施者填寫)'!$J$6:$J$100) - SUMIFS($U$7:U10, $B$7:B10, B11),0), ROUND(IFERROR(SUMIF('表2-1(由實施者填寫)'!$B$6:$B$100,"*"&MID(B11,IFERROR(FIND("/",B11)+1,1),99)&"*",'表2-1(由實施者填寫)'!$J$6:$J$100)*P11/SUMIF($B$8:$B$200,B11,$P$8:$P$200), 0), 0)) -> 0 | V11: =IF(COUNTA($B$8:B11)=COUNTA($B$8:$B$1000),ROUND('表2-1(由實施者填寫)'!$I$105-SUM($V$8:INDIRECT("V"&(ROW()-1))),0), ROUND(IFERROR('表2-1(由實施者填寫)'!$I$105*P11/$P$201,0),0)) -> 0 | W11: =IF(COUNTIF(B11:$B$200, B11)=1, SUMIF('表2-1(由實施者填寫)'!$B$6:$B$100, "*" & SUBSTITUTE(MID(B11, IFERROR(FIND("/", B11)+1, 1), 99), "(地主)", "") & "*", '表2-1(由實施者填寫)'!$I$6:$I$100) - SUMIFS($W$7:W10, $B$7:B10, B11), ROUND(IFERROR(SUMIF('表2-1(由實施者填寫)'!$B$6:$B$100, "*" & SUBSTITUTE(MID(B11, IFERROR(FIND("/", B11)+1, 1), 99), "(地主)", "") & "*", '表2-1(由實施者填寫)'!$I$6:$I$100) * P11 / SUMIF($B$8:$B$200, B11, $P$8:$P$200), 0), 0)) -> 0 | X11: =IFERROR(INDEX(物價指數!$B$2:$M$84, MATCH(LEFT(R11,3), 物價指數!$A$2:$A$84, 0), MATCH(RIGHT(R11,2),物價指數!$B$1:$M$1, 0)),0) -> 0
H12: =IFERROR(E12*F12/G12,0) -> 0 | L12: =H12*K12 -> 0 | O12: =IFERROR($L$201/N12,0) -> 0 | P12: =IFERROR(L12/$L$201*$P$6,0) -> 0 | Q12: =IFERROR(O12*N12*P12/$P$6,0) -> 0 | R12: =I12 -> 0 | S12: =J12 -> 0 | U12: =IF(COUNTIF(B12:$B$200, B12)=1, ROUND(SUMIF('表2-1(由實施者填寫)'!$B$6:$B$100, "*"&MID(B12,IFERROR(FIND("/",B12)+1,1),99)&"*", '表2-1(由實施者填寫)'!$J$6:$J$100) - SUMIFS($U$7:U11, $B$7:B11, B12),0), ROUND(IFERROR(SUMIF('表2-1(由實施者填寫)'!$B$6:$B$100,"*"&MID(B12,IFERROR(FIND("/",B12)+1,1),99)&"*",'表2-1(由實施者填寫)'!$J$6:$J$100)*P12/SUMIF($B$8:$B$200,B12,$P$8:$P$200), 0), 0)) -> 0 | V12: =IF(COUNTA($B$8:B12)=COUNTA($B$8:$B$1000),ROUND('表2-1(由實施者填寫)'!$I$105-SUM($V$8:INDIRECT("V"&(ROW()-1))),0), ROUND(IFERROR('表2-1(由實施者填寫)'!$I$105*P12/$P$201,0),0)) -> 0 | W12: =IF(COUNTIF(B12:$B$200, B12)=1, SUMIF('表2-1(由實施者填寫)'!$B$6:$B$100, "*" & SUBSTITUTE(MID(B12, IFERROR(FIND("/", B12)+1, 1), 99), "(地主)", "") & "*", '表2-1(由實施者填寫)'!$I$6:$I$100) - SUMIFS($W$7:W11, $B$7:B11, B12), ROUND(IFERROR(SUMIF('表2-1(由實施者填寫)'!$B$6:$B$100, "*" & SUBSTITUTE(MID(B12, IFERROR(FIND("/", B12)+1, 1), 99), "(地主)", "") & "*", '表2-1(由實施者填寫)'!$I$6:$I$100) * P12 / SUMIF($B$8:$B$200, B12, $P$8:$P$200), 0), 0)) -> 0 | X12: =IFERROR(INDEX(物價指數!$B$2:$M$84, MATCH(LEFT(R12,3), 物價指數!$A$2:$A$84, 0), MATCH(RIGHT(R12,2),物價指數!$B$1:$M$1, 0)),0) -> 0
H13: =IFERROR(E13*F13/G13,0) -> 0 | L13: =H13*K13 -> 0 | O13: =IFERROR($L$201/N13,0) -> 0 | P13: =IFERROR(L13/$L$201*$P$6,0) -> 0 | Q13: =IFERROR(O13*N13*P13/$P$6,0) -> 0 | R13: =I13 -> 0 | S13: =J13 -> 0 | U13: =IF(COUNTIF(B13:$B$200, B13)=1, ROUND(SUMIF('表2-1(由實施者填寫)'!$B$6:$B$100, "*"&MID(B13,IFERROR(FIND("/",B13)+1,1),99)&"*", '表2-1(由實施者填寫)'!$J$6:$J$100) - SUMIFS($U$7:U12, $B$7:B12, B13),0), ROUND(IFERROR(SUMIF('表2-1(由實施者填寫)'!$B$6:$B$100,"*"&MID(B13,IFERROR(FIND("/",B13)+1,1),99)&"*",'表2-1(由實施者填寫)'!$J$6:$J$100)*P13/SUMIF($B$8:$B$200,B13,$P$8:$P$200), 0), 0)) -> 0 | V13: =IF(COUNTA($B$8:B13)=COUNTA($B$8:$B$1000),ROUND('表2-1(由實施者填寫)'!$I$105-SUM($V$8:INDIRECT("V"&(ROW()-1))),0), ROUND(IFERROR('表2-1(由實施者填寫)'!$I$105*P13/$P$201,0),0)) -> 0 | W13: =IF(COUNTIF(B13:$B$200, B13)=1, SUMIF('表2-1(由實施者填寫)'!$B$6:$B$100, "*" & SUBSTITUTE(MID(B13, IFERROR(FIND("/", B13)+1, 1), 99), "(地主)", "") & "*", '表2-1(由實施者填寫)'!$I$6:$I$100) - SUMIFS($W$7:W12, $B$7:B12, B13), ROUND(IFERROR(SUMIF('表2-1(由實施者填寫)'!$B$6:$B$100, "*" & SUBSTITUTE(MID(B13, IFERROR(FIND("/", B13)+1, 1), 99), "(地主)", "") & "*", '表2-1(由實施者填寫)'!$I$6:$I$100) * P13 / SUMIF($B$8:$B$200, B13, $P$8:$P$200), 0), 0)) -> 0 | X13: =IFERROR(INDEX(物價指數!$B$2:$M$84, MATCH(LEFT(R13,3), 物價指數!$A$2:$A$84, 0), MATCH(RIGHT(R13,2),物價指數!$B$1:$M$1, 0)),0) -> 0
H14: =IFERROR(E14*F14/G14,0) -> 0 | L14: =H14*K14 -> 0 | O14: =IFERROR($L$201/N14,0) -> 0 | P14: =IFERROR(L14/$L$201*$P$6,0) -> 0 | Q14: =IFERROR(O14*N14*P14/$P$6,0) -> 0 | R14: =I14 -> 0 | S14: =J14 -> 0 | U14: =IF(COUNTIF(B14:$B$200, B14)=1, ROUND(SUMIF('表2-1(由實施者填寫)'!$B$6:$B$100, "*"&MID(B14,IFERROR(FIND("/",B14)+1,1),99)&"*", '表2-1(由實施者填寫)'!$J$6:$J$100) - SUMIFS($U$7:U13, $B$7:B13, B14),0), ROUND(IFERROR(SUMIF('表2-1(由實施者填寫)'!$B$6:$B$100,"*"&MID(B14,IFERROR(FIND("/",B14)+1,1),99)&"*",'表2-1(由實施者填寫)'!$J$6:$J$100)*P14/SUMIF($B$8:$B$200,B14,$P$8:$P$200), 0), 0)) -> 0 | V14: =IF(COUNTA($B$8:B14)=COUNTA($B$8:$B$1000),ROUND('表2-1(由實施者填寫)'!$I$105-SUM($V$8:INDIRECT("V"&(ROW()-1))),0), ROUND(IFERROR('表2-1(由實施者填寫)'!$I$105*P14/$P$201,0),0)) -> 0 | W14: =IF(COUNTIF(B14:$B$200, B14)=1, SUMIF('表2-1(由實施者填寫)'!$B$6:$B$100, "*" & SUBSTITUTE(MID(B14, IFERROR(FIND("/", B14)+1, 1), 99), "(地主)", "") & "*", '表2-1(由實施者填寫)'!$I$6:$I$100) - SUMIFS($W$7:W13, $B$7:B13, B14), ROUND(IFERROR(SUMIF('表2-1(由實施者填寫)'!$B$6:$B$100, "*" & SUBSTITUTE(MID(B14, IFERROR(FIND("/", B14)+1, 1), 99), "(地主)", "") & "*", '表2-1(由實施者填寫)'!$I$6:$I$100) * P14 / SUMIF($B$8:$B$200, B14, $P$8:$P$200), 0), 0)) -> 0 | X14: =IFERROR(INDEX(物價指數!$B$2:$M$84, MATCH(LEFT(R14,3), 物價指數!$A$2:$A$84, 0), MATCH(RIGHT(R14,2),物價指數!$B$1:$M$1, 0)),0) -> 0
H15: =IFERROR(E15*F15/G15,0) -> 0 | L15: =H15*K15 -> 0 | O15: =IFERROR($L$201/N15,0) -> 0 | P15: =IFERROR(L15/$L$201*$P$6,0) -> 0 | Q15: =IFERROR(O15*N15*P15/$P$6,0) -> 0 | R15: =I15 -> 0 | S15: =J15 -> 0 | U15: =IF(COUNTIF(B15:$B$200, B15)=1, ROUND(SUMIF('表2-1(由實施者填寫)'!$B$6:$B$100, "*"&MID(B15,IFERROR(FIND("/",B15)+1,1),99)&"*", '表2-1(由實施者填寫)'!$J$6:$J$100) - SUMIFS($U$7:U14, $B$7:B14, B15),0), ROUND(IFERROR(SUMIF('表2-1(由實施者填寫)'!$B$6:$B$100,"*"&MID(B15,IFERROR(FIND("/",B15)+1,1),99)&"*",'表2-1(由實施者填寫)'!$J$6:$J$100)*P15/SUMIF($B$8:$B$200,B15,$P$8:$P$200), 0), 0)) -> 0 | V15: =IF(COUNTA($B$8:B15)=COUNTA($B$8:$B$1000),ROUND('表2-1(由實施者填寫)'!$I$105-SUM($V$8:INDIRECT("V"&(ROW()-1))),0), ROUND(IFERROR('表2-1(由實施者填寫)'!$I$105*P15/$P$201,0),0)) -> 0 | W15: =IF(COUNTIF(B15:$B$200, B15)=1, SUMIF('表2-1(由實施者填寫)'!$B$6:$B$100, "*" & SUBSTITUTE(MID(B15, IFERROR(FIND("/", B15)+1, 1), 99), "(地主)", "") & "*", '表2-1(由實施者填寫)'!$I$6:$I$100) - SUMIFS($W$7:W14, $B$7:B14, B15), ROUND(IFERROR(SUMIF('表2-1(由實施者填寫)'!$B$6:$B$100, "*" & SUBSTITUTE(MID(B15, IFERROR(FIND("/", B15)+1, 1), 99), "(地主)", "") & "*", '表2-1(由實施者填寫)'!$I$6:$I$100) * P15 / SUMIF($B$8:$B$200, B15, $P$8:$P$200), 0), 0)) -> 0 | X15: =IFERROR(INDEX(物價指數!$B$2:$M$84, MATCH(LEFT(R15,3), 物價指數!$A$2:$A$84, 0), MATCH(RIGHT(R15,2),物價指數!$B$1:$M$1, 0)),0) -> 0
H16: =IFERROR(E16*F16/G16,0) -> 0 | L16: =H16*K16 -> 0 | O16: =IFERROR($L$201/N16,0) -> 0 | P16: =IFERROR(L16/$L$201*$P$6,0) -> 0 | Q16: =IFERROR(O16*N16*P16/$P$6,0) -> 0 | R16: =I16 -> 0 | S16: =J16 -> 0 | U16: =IF(COUNTIF(B16:$B$200, B16)=1, ROUND(SUMIF('表2-1(由實施者填寫)'!$B$6:$B$100, "*"&MID(B16,IFERROR(FIND("/",B16)+1,1),99)&"*", '表2-1(由實施者填寫)'!$J$6:$J$100) - SUMIFS($U$7:U15, $B$7:B15, B16),0), ROUND(IFERROR(SUMIF('表2-1(由實施者填寫)'!$B$6:$B$100,"*"&MID(B16,IFERROR(FIND("/",B16)+1,1),99)&"*",'表2-1(由實施者填寫)'!$J$6:$J$100)*P16/SUMIF($B$8:$B$200,B16,$P$8:$P$200), 0), 0)) -> 0 | V16: =IF(COUNTA($B$8:B16)=COUNTA($B$8:$B$1000),ROUND('表2-1(由實施者填寫)'!$I$105-SUM($V$8:INDIRECT("V"&(ROW()-1))),0), ROUND(IFERROR('表2-1(由實施者填寫)'!$I$105*P16/$P$201,0),0)) -> 0 | W16: =IF(COUNTIF(B16:$B$200, B16)=1, SUMIF('表2-1(由實施者填寫)'!$B$6:$B$100, "*" & SUBSTITUTE(MID(B16, IFERROR(FIND("/", B16)+1, 1), 99), "(地主)", "") & "*", '表2-1(由實施者填寫)'!$I$6:$I$100) - SUMIFS($W$7:W15, $B$7:B15, B16), ROUND(IFERROR(SUMIF('表2-1(由實施者填寫)'!$B$6:$B$100, "*" & SUBSTITUTE(MID(B16, IFERROR(FIND("/", B16)+1, 1), 99), "(地主)", "") & "*", '表2-1(由實施者填寫)'!$I$6:$I$100) * P16 / SUMIF($B$8:$B$200, B16, $P$8:$P$200), 0), 0)) -> 0 | X16: =IFERROR(INDEX(物價指數!$B$2:$M$84, MATCH(LEFT(R16,3), 物價指數!$A$2:$A$84, 0), MATCH(RIGHT(R16,2),物價指數!$B$1:$M$1, 0)),0) -> 0
H17: =IFERROR(E17*F17/G17,0) -> 0 | L17: =H17*K17 -> 0 | O17: =IFERROR($L$201/N17,0) -> 0 | P17: =IFERROR(L17/$L$201*$P$6,0) -> 0 | Q17: =IFERROR(O17*N17*P17/$P$6,0) -> 0 | R17: =I17 -> 0 | S17: =J17 -> 0 | U17: =IF(COUNTIF(B17:$B$200, B17)=1, ROUND(SUMIF('表2-1(由實施者填寫)'!$B$6:$B$100, "*"&MID(B17,IFERROR(FIND("/",B17)+1,1),99)&"*", '表2-1(由實施者填寫)'!$J$6:$J$100) - SUMIFS($U$7:U16, $B$7:B16, B17),0), ROUND(IFERROR(SUMIF('表2-1(由實施者填寫)'!$B$6:$B$100,"*"&MID(B17,IFERROR(FIND("/",B17)+1,1),99)&"*",'表2-1(由實施者填寫)'!$J$6:$J$100)*P17/SUMIF($B$8:$B$200,B17,$P$8:$P$200), 0), 0)) -> 0 | V17: =IF(COUNTA($B$8:B17)=COUNTA($B$8:$B$1000),ROUND('表2-1(由實施者填寫)'!$I$105-SUM($V$8:INDIRECT("V"&(ROW()-1))),0), ROUND(IFERROR('表2-1(由實施者填寫)'!$I$105*P17/$P$201,0),0)) -> 0 | W17: =IF(COUNTIF(B17:$B$200, B17)=1, SUMIF('表2-1(由實施者填寫)'!$B$6:$B$100, "*" & SUBSTITUTE(MID(B17, IFERROR(FIND("/", B17)+1, 1), 99), "(地主)", "") & "*", '表2-1(由實施者填寫)'!$I$6:$I$100) - SUMIFS($W$7:W16, $B$7:B16, B17), ROUND(IFERROR(SUMIF('表2-1(由實施者填寫)'!$B$6:$B$100, "*" & SUBSTITUTE(MID(B17, IFERROR(FIND("/", B17)+1, 1), 99), "(地主)", "") & "*", '表2-1(由實施者填寫)'!$I$6:$I$100) * P17 / SUMIF($B$8:$B$200, B17, $P$8:$P$200), 0), 0)) -> 0 | X17: =IFERROR(INDEX(物價指數!$B$2:$M$84, MATCH(LEFT(R17,3), 物價指數!$A$2:$A$84, 0), MATCH(RIGHT(R17,2),物價指數!$B$1:$M$1, 0)),0) -> 0
H18: =IFERROR(E18*F18/G18,0) -> 0 | L18: =H18*K18 -> 0 | O18: =IFERROR($L$201/N18,0) -> 0 | P18: =IFERROR(L18/$L$201*$P$6,0) -> 0 | Q18: =IFERROR(O18*N18*P18/$P$6,0) -> 0 | R18: =I18 -> 0 | S18: =J18 -> 0 | U18: =IF(COUNTIF(B18:$B$200, B18)=1, ROUND(SUMIF('表2-1(由實施者填寫)'!$B$6:$B$100, "*"&MID(B18,IFERROR(FIND("/",B18)+1,1),99)&"*", '表2-1(由實施者填寫)'!$J$6:$J$100) - SUMIFS($U$7:U17, $B$7:B17, B18),0), ROUND(IFERROR(SUMIF('表2-1(由實施者填寫)'!$B$6:$B$100,"*"&MID(B18,IFERROR(FIND("/",B18)+1,1),99)&"*",'表2-1(由實施者填寫)'!$J$6:$J$100)*P18/SUMIF($B$8:$B$200,B18,$P$8:$P$200), 0), 0)) -> 0 | V18: =IF(COUNTA($B$8:B18)=COUNTA($B$8:$B$1000),ROUND('表2-1(由實施者填寫)'!$I$105-SUM($V$8:INDIRECT("V"&(ROW()-1))),0), ROUND(IFERROR('表2-1(由實施者填寫)'!$I$105*P18/$P$201,0),0)) -> 0 | W18: =IF(COUNTIF(B18:$B$200, B18)=1, SUMIF('表2-1(由實施者填寫)'!$B$6:$B$100, "*" & SUBSTITUTE(MID(B18, IFERROR(FIND("/", B18)+1, 1), 99), "(地主)", "") & "*", '表2-1(由實施者填寫)'!$I$6:$I$100) - SUMIFS($W$7:W17, $B$7:B17, B18), ROUND(IFERROR(SUMIF('表2-1(由實施者填寫)'!$B$6:$B$100, "*" & SUBSTITUTE(MID(B18, IFERROR(FIND("/", B18)+1, 1), 99), "(地主)", "") & "*", '表2-1(由實施者填寫)'!$I$6:$I$100) * P18 / SUMIF($B$8:$B$200, B18, $P$8:$P$200), 0), 0)) -> 0 | X18: =IFERROR(INDEX(物價指數!$B$2:$M$84, MATCH(LEFT(R18,3), 物價指數!$A$2:$A$84, 0), MATCH(RIGHT(R18,2),物價指數!$B$1:$M$1, 0)),0) -> 0
H19: =IFERROR(E19*F19/G19,0) -> 0 | L19: =H19*K19 -> 0 | O19: =IFERROR($L$201/N19,0) -> 0 | P19: =IFERROR(L19/$L$201*$P$6,0) -> 0 | Q19: =IFERROR(O19*N19*P19/$P$6,0) -> 0 | R19: =I19 -> 0 | S19: =J19 -> 0 | U19: =IF(COUNTIF(B19:$B$200, B19)=1, ROUND(SUMIF('表2-1(由實施者填寫)'!$B$6:$B$100, "*"&MID(B19,IFERROR(FIND("/",B19)+1,1),99)&"*", '表2-1(由實施者填寫)'!$J$6:$J$100) - SUMIFS($U$7:U18, $B$7:B18, B19),0), ROUND(IFERROR(SUMIF('表2-1(由實施者填寫)'!$B$6:$B$100,"*"&MID(B19,IFERROR(FIND("/",B19)+1,1),99)&"*",'表2-1(由實施者填寫)'!$J$6:$J$100)*P19/SUMIF($B$8:$B$200,B19,$P$8:$P$200), 0), 0)) -> 0 | V19: =IF(COUNTA($B$8:B19)=COUNTA($B$8:$B$1000),ROUND('表2-1(由實施者填寫)'!$I$105-SUM($V$8:INDIRECT("V"&(ROW()-1))),0), ROUND(IFERROR('表2-1(由實施者填寫)'!$I$105*P19/$P$201,0),0)) -> 0 | W19: =IF(COUNTIF(B19:$B$200, B19)=1, SUMIF('表2-1(由實施者填寫)'!$B$6:$B$100, "*" & SUBSTITUTE(MID(B19, IFERROR(FIND("/", B19)+1, 1), 99), "(地主)", "") & "*", '表2-1(由實施者填寫)'!$I$6:$I$100) - SUMIFS($W$7:W18, $B$7:B18, B19), ROUND(IFERROR(SUMIF('表2-1(由實施者填寫)'!$B$6:$B$100, "*" & SUBSTITUTE(MID(B19, IFERROR(FIND("/", B19)+1, 1), 99), "(地主)", "") & "*", '表2-1(由實施者填寫)'!$I$6:$I$100) * P19 / SUMIF($B$8:$B$200, B19, $P$8:$P$200), 0), 0)) -> 0 | X19: =IFERROR(INDEX(物價指數!$B$2:$M$84, MATCH(LEFT(R19,3), 物價指數!$A$2:$A$84, 0), MATCH(RIGHT(R19,2),物價指數!$B$1:$M$1, 0)),0) -> 0
... H200: =IFERROR(E200*F200/G200,0) -> 0 | L200: =H200*K200 -> 0 | O200: =IFERROR($L$201/N200,0) -> 0 | P200: =IFERROR(L200/$L$201*$P$6,0) -> 0 | Q200: =IFERROR(O200*N200*P200/$P$6,0) -> 0 | R200: =I200 -> 0 | S200: =J200 -> 0 | U200: =IF(COUNTIF(B200:$B$200, B200)=1, ROUND(SUMIF('表2-1(由實施者填寫)'!$B$6:$B$100, "*"&MID(B200,IFERROR(FIND("/",B200)+1,1),99)&"*", '表2-1(由實施者填寫)'!$J$6:$J$100) - SUMIFS($U$7:U199, $B$7:B199, B200),0), ROUND(IFERROR(SUMIF('表2-1(由實施者填寫)'!$B$6:$B$100,"*"&MID(B200,IFERROR(FIND("/",B200)+1,1),99)&"*",'表2-1(由實施者填寫)'!$J$6:$J$100)*P200/SUMIF($B$8:$B$200,B200,$P$8:$P$200), 0), 0)) -> 0 | V200: =IF(COUNTA($B$8:B200)=COUNTA($B$8:$B$1000),ROUND('表2-1(由實施者填寫)'!$I$105-SUM($V$8:INDIRECT("V"&(ROW()-1))),0), ROUND(IFERROR('表2-1(由實施者填寫)'!$I$105*P200/$P$201,0),0)) -> 0 | W200: =IF(COUNTIF(B200:$B$200, B200)=1, SUMIF('表2-1(由實施者填寫)'!$B$6:$B$100, "*" & SUBSTITUTE(MID(B200, IFERROR(FIND("/", B200)+1, 1), 99), "(地主)", "") & "*", '表2-1(由實施者填寫)'!$I$6:$I$100) - SUMIFS($W$7:W199, $B$7:B199, B200), ROUND(IFERROR(SUMIF('表2-1(由實施者填寫)'!$B$6:$B$100, "*" & SUBSTITUTE(MID(B200, IFERROR(FIND("/", B200)+1, 1), 99), "(地主)", "") & "*", '表2-1(由實施者填寫)'!$I$6:$I$100) * P200 / SUMIF($B$8:$B$200, B200, $P$8:$P$200), 0), 0)) -> 0 | X200: =IFERROR(INDEX(物價指數!$B$2:$M$84, MATCH(LEFT(R200,3), 物價指數!$A$2:$A$84, 0), MATCH(RIGHT(R200,2),物價指數!$B$1:$M$1, 0)),0) -> 0
H201: =SUM(H8:H200) -> 0 | L201: =SUM(L8:L200) -> 0 | P201: =SUM(P8:P200) -> 0 | Q201: =SUM(Q8:Q200) -> 0 | U201: =SUM(U8:U200) -> 0 | V201: =SUM(V8:V200) -> 0 | W201: =SUM(W8:W200) -> 0 | X201: =IF(ROW(B201)=218, '表2-1(由實施者填寫)'!$I$105 - SUM($X$2:X200), ROUND(IFERROR('表2-1(由實施者填寫)'!$I$105 *#REF! /#REF!, 0), 0)) -> 0
A203: 註1：灰底、橘底設有公式，請勿修改或刪除
A204: 註2：白底列不敷使用時，請複製白底列並以【插入複製儲存格】增加

Sheet 212價差
A1: 申報日期 | B1: 收件編號 | C1: 流水號 | D1: 土地標示 | E1: 序號 | F1: 納稅義務人身分證統一編號 | G1: 姓名 | H1: 出生日期 | I1: 地址-縣市 | J1: 地址-鄉鎮名 | K1: 地址-村里 | L1: 地址-鄰 | M1: 地址-街路 | N1: 地址-段 | O1: 地址-路段巷弄門牌 | P1: 地址-郵遞區號1 | Q1: 地址-郵遞區號2 | R1: 通報自用住宅否 | S1: 分子 | T1: 分母 | U1: 委託人註記 | V1: 委託人身分證號 | W1: 委託人姓名 | X1: 原地價年月 | Y1: 原地價單價 | Z1: *長期持有減徵起算日 | AA1: *扣抵增繳地價稅 | AB1: *物價指數
F2: ='表2-2(由實施者填寫)'!C8 -> 0 | G2: ='表2-2(由實施者填寫)'!B8 -> 0 | R2: N | S2: ='表2-2(由實施者填寫)'!U8 -> 0 | T2: ='表2-2(由實施者填寫)'!$P$6 -> 100000 | X2: ='表2-2(由實施者填寫)'!R8 -> 0 | Y2: ='表2-2(由實施者填寫)'!S8 -> 0 | Z2: ='表2-2(由實施者填寫)'!T8 -> 0 | AB2: ='表2-2(由實施者填寫)'!X8 -> 0
F3: ='表2-2(由實施者填寫)'!C9 -> 0 | G3: ='表2-2(由實施者填寫)'!B9 -> 0 | R3: N | S3: ='表2-2(由實施者填寫)'!U9 -> 0 | T3: ='表2-2(由實施者填寫)'!$P$6 -> 100000 | X3: ='表2-2(由實施者填寫)'!R9 -> 0 | Y3: ='表2-2(由實施者填寫)'!S9 -> 0 | Z3: ='表2-2(由實施者填寫)'!T9 -> 0 | AB3: ='表2-2(由實施者填寫)'!X9 -> 0
F4: ='表2-2(由實施者填寫)'!C10 -> 0 | G4: ='表2-2(由實施者填寫)'!B10 -> 0 | R4: N | S4: ='表2-2(由實施者填寫)'!U10 -> 0 | T4: ='表2-2(由實施者填寫)'!$P$6 -> 100000 | X4: ='表2-2(由實施者填寫)'!R10 -> 0 | Y4: ='表2-2(由實施者填寫)'!S10 -> 0 | Z4: ='表2-2(由實施者填寫)'!T10 -> 0 | AB4: ='表2-2(由實施者填寫)'!X10 -> 0
F5: ='表2-2(由實施者填寫)'!C11 -> 0 | G5: ='表2-2(由實施者填寫)'!B11 -> 0 | R5: N | S5: ='表2-2(由實施者填寫)'!U11 -> 0 | T5: ='表2-2(由實施者填寫)'!$P$6 -> 100000 | X5: ='表2-2(由實施者填寫)'!R11 -> 0 | Y5: ='表2-2(由實施者填寫)'!S11 -> 0 | Z5: ='表2-2(由實施者填寫)'!T11 -> 0 | AB5: ='表2-2(由實施者填寫)'!X11 -> 0
F6: ='表2-2(由實施者填寫)'!C12 -> 0 | G6: ='表2-2(由實施者填寫)'!B12 -> 0 | R6: N | S6: ='表2-2(由實施者填寫)'!U12 -> 0 | T6: ='表2-2(由實施者填寫)'!$P$6 -> 100000 | X6: ='表2-2(由實施者填寫)'!R12 -> 0 | Y6: ='表2-2(由實施者填寫)'!S12 -> 0 | Z6: ='表2-2(由實施者填寫)'!T12 -> 0 | AB6: ='表2-2(由實施者填寫)'!X12 -> 0
F7: ='表2-2(由實施者填寫)'!C13 -> 0 | G7: ='表2-2(由實施者填寫)'!B13 -> 0 | R7: N | S7: ='表2-2(由實施者填寫)'!U13 -> 0 | T7: ='表2-2(由實施者填寫)'!$P$6 -> 100000 | X7: ='表2-2(由實施者填寫)'!R13 -> 0 | Y7: ='表2-2(由實施者填寫)'!S13 -> 0 | Z7: ='表2-2(由實施者填寫)'!T13 -> 0 | AB7: ='表2-2(由實施者填寫)'!X13 -> 0
F8: ='表2-2(由實施者填寫)'!C14 -> 0 | G8: ='表2-2(由實施者填寫)'!B14 -> 0 | R8: N | S8: ='表2-2(由實施者填寫)'!U14 -> 0 | T8: ='表2-2(由實施者填寫)'!$P$6 -> 100000 | X8: ='表2-2(由實施者填寫)'!R14 -> 0 | Y8: ='表2-2(由實施者填寫)'!S14 -> 0 | Z8: ='表2-2(由實施者填寫)'!T14 -> 0 | AB8: ='表2-2(由實施者填寫)'!X14 -> 0
F9: ='表2-2(由實施者填寫)'!C15 -> 0 | G9: ='表2-2(由實施者填寫)'!B15 -> 0 | R9: N | S9: ='表2-2(由實施者填寫)'!U15 -> 0 | T9: ='表2-2(由實施者填寫)'!$P$6 -> 100000 | X9: ='表2-2(由實施者填寫)'!R15 -> 0 | Y9: ='表2-2(由實施者填寫)'!S15 -> 0 | Z9: ='表2-2(由實施者填寫)'!T15 -> 0 | AB9: ='表2-2(由實施者填寫)'!X15 -> 0
F10: ='表2-2(由實施者填寫)'!C16 -> 0 | G10: ='表2-2(由實施者填寫)'!B16 -> 0 | R10: N | S10: ='表2-2(由實施者填寫)'!U16 -> 0 | T10: ='表2-2(由實施者填寫)'!$P$6 -> 100000 | X10: ='表2-2(由實施者填寫)'!R16 -> 0 | Y10: ='表2-2(由實施者填寫)'!S16 -> 0 | Z10: ='表2-2(由實施者填寫)'!T16 -> 0 | AB10: ='表2-2(由實施者填寫)'!X16 -> 0
F11: ='表2-2(由實施者填寫)'!C17 -> 0 | G11: ='表2-2(由實施者填寫)'!B17 -> 0 | R11: N | S11: ='表2-2(由實施者填寫)'!U17 -> 0 | T11: ='表2-2(由實施者填寫)'!$P$6 -> 100000 | X11: ='表2-2(由實施者填寫)'!R17 -> 0 | Y11: ='表2-2(由實施者填寫)'!S17 -> 0 | Z11: ='表2-2(由實施者填寫)'!T17 -> 0 | AB11: ='表2-2(由實施者填寫)'!X17 -> 0
F12: ='表2-2(由實施者填寫)'!C18 -> 0 | G12: ='表2-2(由實施者填寫)'!B18 -> 0 | R12: N | S12: ='表2-2(由實施者填寫)'!U18 -> 0 | T12: ='表2-2(由實施者填寫)'!$P$6 -> 100000 | X12: ='表2-2(由實施者填寫)'!R18 -> 0 | Y12: ='表2-2(由實施者填寫)'!S18 -> 0 | Z12: ='表2-2(由實施者填寫)'!T18 -> 0 | AB12: ='表2-2(由實施者填寫)'!X18 -> 0
F13: ='表2-2(由實施者填寫)'!C19 -> 0 | G13: ='表2-2(由實施者填寫)'!B19 -> 0 | R13: N | S13: ='表2-2(由實施者填寫)'!U19 -> 0 | T13: ='表2-2(由實施者填寫)'!$P$6 -> 100000 | X13: ='表2-2(由實施者填寫)'!R19 -> 0 | Y13: ='表2-2(由實施者填寫)'!S19 -> 0 | Z13: ='表2-2(由實施者填寫)'!T19 -> 0 | AB13: ='表2-2(由實施者填寫)'!X19 -> 0
... F200: ='表2-2(由實施者填寫)'!C206 -> 0 | G200: ='表2-2(由實施者填寫)'!B206 -> 0 | R200: N | S200: ='表2-2(由實施者填寫)'!U206 -> 0 | T200: ='表2-2(由實施者填寫)'!$P$6 -> 100000 | X200: ='表2-2(由實施者填寫)'!R206 -> 0 | Y200: ='表2-2(由實施者填寫)'!S206 -> 0 | Z200: ='表2-2(由實施者填寫)'!T206 -> 0 | AB200: ='表2-2(由實施者填寫)'!X206 -> 0

Sheet 213價差
A1: 申報日期 | B1: 收件編號 | C1: 權利人流水號 | D1: 土地標示 | E1: 權利人身分證統一編號 | F1: 權利人姓名 | G1: 權利人地址 | H1: 權利人地址 | I1: 權利人地址 | J1: 權利人地址 | K1: 權利人地址 | L1: 權利人地址 | M1: 權利人地址 | N1: 權利人地址 | O1: 權利人地址 | P1: 出生日期 | Q1: 年滿25歲否 | R1: 分子 | S1: 分母 | T1: 流水號 | U1: 身分別 | V1: 收件原因
F2: ='表2-1(由實施者填寫)'!B6 -> 0 | Q2: Y | R2: ='表2-1(由實施者填寫)'!H6 -> 0 | S2: ='表2-2(由實施者填寫)'!$P$6 -> 100000
F3: ='表2-1(由實施者填寫)'!B7 -> 0 | Q3: Y | R3: ='表2-1(由實施者填寫)'!H7 -> 0 | S3: ='表2-2(由實施者填寫)'!$P$6 -> 100000
F4: ='表2-1(由實施者填寫)'!B8 -> 0 | Q4: Y | R4: ='表2-1(由實施者填寫)'!H8 -> 0 | S4: ='表2-2(由實施者填寫)'!$P$6 -> 100000
F5: ='表2-1(由實施者填寫)'!B9 -> 0 | Q5: Y | R5: ='表2-1(由實施者填寫)'!H9 -> 0 | S5: ='表2-2(由實施者填寫)'!$P$6 -> 100000
F6: ='表2-1(由實施者填寫)'!B10 -> 0 | Q6: Y | R6: ='表2-1(由實施者填寫)'!H10 -> 0 | S6: ='表2-2(由實施者填寫)'!$P$6 -> 100000
F7: ='表2-1(由實施者填寫)'!B11 -> 0 | Q7: Y | R7: ='表2-1(由實施者填寫)'!H11 -> 0 | S7: ='表2-2(由實施者填寫)'!$P$6 -> 100000
F8: ='表2-1(由實施者填寫)'!B12 -> 0 | Q8: Y | R8: ='表2-1(由實施者填寫)'!H12 -> 0 | S8: ='表2-2(由實施者填寫)'!$P$6 -> 100000
F9: ='表2-1(由實施者填寫)'!B13 -> 0 | Q9: Y | R9: ='表2-1(由實施者填寫)'!H13 -> 0 | S9: ='表2-2(由實施者填寫)'!$P$6 -> 100000
F10: ='表2-1(由實施者填寫)'!B14 -> 0 | Q10: Y | R10: ='表2-1(由實施者填寫)'!H14 -> 0 | S10: ='表2-2(由實施者填寫)'!$P$6 -> 100000
F11: ='表2-1(由實施者填寫)'!B15 -> 0 | Q11: Y | R11: ='表2-1(由實施者填寫)'!H15 -> 0 | S11: ='表2-2(由實施者填寫)'!$P$6 -> 100000
F12: ='表2-1(由實施者填寫)'!B16 -> 0 | Q12: Y | R12: ='表2-1(由實施者填寫)'!H16 -> 0 | S12: ='表2-2(由實施者填寫)'!$P$6 -> 100000
F13: ='表2-1(由實施者填寫)'!B17 -> 0 | Q13: Y | R13: ='表2-1(由實施者填寫)'!H17 -> 0 | S13: ='表2-2(由實施者填寫)'!$P$6 -> 100000
... F200: ='表2-1(由實施者填寫)'!B204 -> 0 | Q200: Y | R200: ='表2-1(由實施者填寫)'!H204 -> 0 | S200: ='表2-2(由實施者填寫)'!$P$6 -> 100000

Sheet 212抵付
A1: 申報日期 | B1: 收件編號 | C1: 流水號 | D1: 土地標示 | E1: 序號 | F1: 納稅義務人身分證統一編號 | G1: 姓名 | H1: 出生日期 | I1: 地址-縣市 | J1: 地址-鄉鎮名 | K1: 地址-村里 | L1: 地址-鄰 | M1: 地址-街路 | N1: 地址-段 | O1: 地址-路段巷弄門牌 | P1: 地址-郵遞區號1 | Q1: 地址-郵遞區號2 | R1: 通報自用住宅否 | S1: 分子 | T1: 分母 | U1: 委託人註記 | V1: 委託人身分證號 | W1: 委託人姓名 | X1: 原地價年月 | Y1: 原地價單價 | Z1: *長期持有減徵起算日 | AA1: *扣抵增繳地價稅 | AB1: *物價指數
F2: ='表2-2(由實施者填寫)'!C8 -> 0 | G2: ='表2-2(由實施者填寫)'!B8 -> 0 | R2: N | S2: ='表2-2(由實施者填寫)'!V8 -> 0 | T2: ='表2-2(由實施者填寫)'!$P$6 -> 100000 | X2: ='表2-2(由實施者填寫)'!R8 -> 0 | Y2: ='表2-2(由實施者填寫)'!S8 -> 0 | Z2: ='表2-2(由實施者填寫)'!T8 -> 0 | AB2: ='表2-2(由實施者填寫)'!X8 -> 0
F3: ='表2-2(由實施者填寫)'!C9 -> 0 | G3: ='表2-2(由實施者填寫)'!B9 -> 0 | R3: N | S3: ='表2-2(由實施者填寫)'!V9 -> 0 | T3: ='表2-2(由實施者填寫)'!$P$6 -> 100000 | X3: ='表2-2(由實施者填寫)'!R9 -> 0 | Y3: ='表2-2(由實施者填寫)'!S9 -> 0 | Z3: ='表2-2(由實施者填寫)'!T9 -> 0 | AB3: ='表2-2(由實施者填寫)'!X9 -> 0
F4: ='表2-2(由實施者填寫)'!C10 -> 0 | G4: ='表2-2(由實施者填寫)'!B10 -> 0 | R4: N | S4: ='表2-2(由實施者填寫)'!V10 -> 0 | T4: ='表2-2(由實施者填寫)'!$P$6 -> 100000 | X4: ='表2-2(由實施者填寫)'!R10 -> 0 | Y4: ='表2-2(由實施者填寫)'!S10 -> 0 | Z4: ='表2-2(由實施者填寫)'!T10 -> 0 | AB4: ='表2-2(由實施者填寫)'!X10 -> 0
F5: ='表2-2(由實施者填寫)'!C11 -> 0 | G5: ='表2-2(由實施者填寫)'!B11 -> 0 | R5: N | S5: ='表2-2(由實施者填寫)'!V11 -> 0 | T5: ='表2-2(由實施者填寫)'!$P$6 -> 100000 | X5: ='表2-2(由實施者填寫)'!R11 -> 0 | Y5: ='表2-2(由實施者填寫)'!S11 -> 0 | Z5: ='表2-2(由實施者填寫)'!T11 -> 0 | AB5: ='表2-2(由實施者填寫)'!X11 -> 0
F6: ='表2-2(由實施者填寫)'!C12 -> 0 | G6: ='表2-2(由實施者填寫)'!B12 -> 0 | R6: N | S6: ='表2-2(由實施者填寫)'!V12 -> 0 | T6: ='表2-2(由實施者填寫)'!$P$6 -> 100000 | X6: ='表2-2(由實施者填寫)'!R12 -> 0 | Y6: ='表2-2(由實施者填寫)'!S12 -> 0 | Z6: ='表2-2(由實施者填寫)'!T12 -> 0 | AB6: ='表2-2(由實施者填寫)'!X12 -> 0
F7: ='表2-2(由實施者填寫)'!C13 -> 0 | G7: ='表2-2(由實施者填寫)'!B13 -> 0 | R7: N | S7: ='表2-2(由實施者填寫)'!V13 -> 0 | T7: ='表2-2(由實施者填寫)'!$P$6 -> 100000 | X7: ='表2-2(由實施者填寫)'!R13 -> 0 | Y7: ='表2-2(由實施者填寫)'!S13 -> 0 | Z7: ='表2-2(由實施者填寫)'!T13 -> 0 | AB7: ='表2-2(由實施者填寫)'!X13 -> 0
F8: ='表2-2(由實施者填寫)'!C14 -> 0 | G8: ='表2-2(由實施者填寫)'!B14 -> 0 | R8: N | S8: ='表2-2(由實施者填寫)'!V14 -> 0 | T8: ='表2-2(由實施者填寫)'!$P$6 -> 100000 | X8: ='表2-2(由實施者填寫)'!R14 -> 0 | Y8: ='表2-2(由實施者填寫)'!S14 -> 0 | Z8: ='表2-2(由實施者填寫)'!T14 -> 0 | AB8: ='表2-2(由實施者填寫)'!X14 -> 0
F9: ='表2-2(由實施者填寫)'!C15 -> 0 | G9: ='表2-2(由實施者填寫)'!B15 -> 0 | R9: N | S9: ='表2-2(由實施者填寫)'!V15 -> 0 | T9: ='表2-2(由實施者填寫)'!$P$6 -> 100000 | X9: ='表2-2(由實施者填寫)'!R15 -> 0 | Y9: ='表2-2(由實施者填寫)'!S15 -> 0 | Z9: ='表2-2(由實施者填寫)'!T15 -> 0 | AB9: ='表2-2(由實施者填寫)'!X15 -> 0
F10: ='表2-2(由實施者填寫)'!C16 -> 0 | G10: ='表2-2(由實施者填寫)'!B16 -> 0 | R10: N | S10: ='表2-2(由實施者填寫)'!V16 -> 0 | T10: ='表2-2(由實施者填寫)'!$P$6 -> 100000 | X10: ='表2-2(由實施者填寫)'!R16 -> 0 | Y10: ='表2-2(由實施者填寫)'!S16 -> 0 | Z10: ='表2-2(由實施者填寫)'!T16 -> 0 | AB10: ='表2-2(由實施者填寫)'!X16 -> 0
F11: ='表2-2(由實施者填寫)'!C17 -> 0 | G11: ='表2-2(由實施者填寫)'!B17 -> 0 | R11: N | S11: ='表2-2(由實施者填寫)'!V17 -> 0 | T11: ='表2-2(由實施者填寫)'!$P$6 -> 100000 | X11: ='表2-2(由實施者填寫)'!R17 -> 0 | Y11: ='表2-2(由實施者填寫)'!S17 -> 0 | Z11: ='表2-2(由實施者填寫)'!T17 -> 0 | AB11: ='表2-2(由實施者填寫)'!X17 -> 0
F12: ='表2-2(由實施者填寫)'!C18 -> 0 | G12: ='表2-2(由實施者填寫)'!B18 -> 0 | R12: N | S12: ='表2-2(由實施者填寫)'!V18 -> 0 | T12: ='表2-2(由實施者填寫)'!$P$6 -> 100000 | X12: ='表2-2(由實施者填寫)'!R18 -> 0 | Y12: ='表2-2(由實施者填寫)'!S18 -> 0 | Z12: ='表2-2(由實施者填寫)'!T18 -> 0 | AB12: ='表2-2(由實施者填寫)'!X18 -> 0
F13: ='表2-2(由實施者填寫)'!C19 -> 0 | G13: ='表2-2(由實施者填寫)'!B19 -> 0 | R13: N | S13: ='表2-2(由實施者填寫)'!V19 -> 0 | T13: ='表2-2(由實施者填寫)'!$P$6 -> 100000 | X13: ='表2-2(由實施者填寫)'!R19 -> 0 | Y13: ='表2-2(由實施者填寫)'!S19 -> 0 | Z13: ='表2-2(由實施者填寫)'!T19 -> 0 | AB13: ='表2-2(由實施者填寫)'!X19 -> 0
... F200: ='表2-2(由實施者填寫)'!C206 -> 0 | G200: ='表2-2(由實施者填寫)'!B206 -> 0 | R200: N | S200: ='表2-2(由實施者填寫)'!V206 -> 0 | T200: ='表2-2(由實施者填寫)'!$P$6 -> 100000 | X200: ='表2-2(由實施者填寫)'!R206 -> 0 | Y200: ='表2-2(由實施者填寫)'!S206 -> 0 | Z200: ='表2-2(由實施者填寫)'!T206 -> 0 | AB200: ='表2-2(由實施者填寫)'!X206 -> 0

Sheet 213抵付
A1: 申報日期 | B1: 收件編號 | C1: 權利人流水號 | D1: 土地標示 | E1: 權利人身分證統一編號 | F1: 權利人姓名 | G1: 權利人地址 | H1: 權利人地址 | I1: 權利人地址 | J1: 權利人地址 | K1: 權利人地址 | L1: 權利人地址 | M1: 權利人地址 | N1: 權利人地址 | O1: 權利人地址 | P1: 出生日期 | Q1: 年滿25歲否 | R1: 分子 | S1: 分母 | T1: 流水號 | U1: 身分別 | V1: 收件原因
F2: ='表2-1(由實施者填寫)'!B104 -> 0 | Q2: Y | R2: ='表2-2(由實施者填寫)'!V201 -> 0 | S2: ='表2-2(由實施者填寫)'!$P$6 -> 100000

Sheet 物價指數
B1: 01 | C1: 02 | D1: 03 | E1: 04 | F1: 05 | G1: 06 | H1: 07 | I1: 08 | J1: 09 | K1: 10 | L1: 11 | M1: 12
A2: 048
A3: 049
A4: 050
A5: 051
A6: 052
A7: 053
A8: 054
A9: 055
A10: 056
A11: 057
A12: 058
A13: 059
... A84: 130

Sheet 地政
A1: 暫編○○段○○○地號土地都市更新權利變換計畫案清冊
A2: 序號 | B2: 土地所有權人/管理機關 | C2: 改算後 | F2: 差額價金 | H2: 抵付共同負擔移出持分 100000 | I2: 更新後實際保留土地持分 100000
C3: 年月 | D3: 地價(元) | E3: 權利範圍持分 100000 | F3: 移出 | G3: 移入
A5: 1 | B5: ='表2-2(由實施者填寫)'!B8 -> 0 | C5: ='表2-2(由實施者填寫)'!R8 -> 0 | D5: ='表2-2(由實施者填寫)'!S8 -> 0 | E5: ='表2-2(由實施者填寫)'!P8 -> 0 | F5: ='表2-2(由實施者填寫)'!U8 -> 0 | H5: ='表2-2(由實施者填寫)'!V8 -> 0 | I5: ='表2-2(由實施者填寫)'!W8 -> 0
A6: 2 | B6: ='表2-2(由實施者填寫)'!B9 -> 0 | C6: ='表2-2(由實施者填寫)'!R9 -> 0 | D6: ='表2-2(由實施者填寫)'!S9 -> 0 | E6: ='表2-2(由實施者填寫)'!P9 -> 0 | F6: ='表2-2(由實施者填寫)'!U9 -> 0 | H6: ='表2-2(由實施者填寫)'!V9 -> 0 | I6: ='表2-2(由實施者填寫)'!W9 -> 0
A7: 3 | B7: ='表2-2(由實施者填寫)'!B10 -> 0 | C7: ='表2-2(由實施者填寫)'!R10 -> 0 | D7: ='表2-2(由實施者填寫)'!S10 -> 0 | E7: ='表2-2(由實施者填寫)'!P10 -> 0 | F7: ='表2-2(由實施者填寫)'!U10 -> 0 | H7: ='表2-2(由實施者填寫)'!V10 -> 0 | I7: ='表2-2(由實施者填寫)'!W10 -> 0
A8: 4 | B8: ='表2-2(由實施者填寫)'!B11 -> 0 | C8: ='表2-2(由實施者填寫)'!R11 -> 0 | D8: ='表2-2(由實施者填寫)'!S11 -> 0 | E8: ='表2-2(由實施者填寫)'!P11 -> 0 | F8: ='表2-2(由實施者填寫)'!U11 -> 0 | H8: ='表2-2(由實施者填寫)'!V11 -> 0 | I8: ='表2-2(由實施者填寫)'!W11 -> 0
A9: 5 | B9: ='表2-2(由實施者填寫)'!B12 -> 0 | C9: ='表2-2(由實施者填寫)'!R12 -> 0 | D9: ='表2-2(由實施者填寫)'!S12 -> 0 | E9: ='表2-2(由實施者填寫)'!P12 -> 0 | F9: ='表2-2(由實施者填寫)'!U12 -> 0 | H9: ='表2-2(由實施者填寫)'!V12 -> 0 | I9: ='表2-2(由實施者填寫)'!W12 -> 0
A10: 6 | B10: ='表2-2(由實施者填寫)'!B13 -> 0 | C10: ='表2-2(由實施者填寫)'!R13 -> 0 | D10: ='表2-2(由實施者填寫)'!S13 -> 0 | E10: ='表2-2(由實施者填寫)'!P13 -> 0 | F10: ='表2-2(由實施者填寫)'!U13 -> 0 | H10: ='表2-2(由實施者填寫)'!V13 -> 0 | I10: ='表2-2(由實施者填寫)'!W13 -> 0
A11: 7 | B11: ='表2-2(由實施者填寫)'!B14 -> 0 | C11: ='表2-2(由實施者填寫)'!R14 -> 0 | D11: ='表2-2(由實施者填寫)'!S14 -> 0 | E11: ='表2-2(由實施者填寫)'!P14 -> 0 | F11: ='表2-2(由實施者填寫)'!U14 -> 0 | H11: ='表2-2(由實施者填寫)'!V14 -> 0 | I11: ='表2-2(由實施者填寫)'!W14 -> 0
A12: 8 | B12: ='表2-2(由實施者填寫)'!B15 -> 0 | C12: ='表2-2(由實施者填寫)'!R15 -> 0 | D12: ='表2-2(由實施者填寫)'!S15 -> 0 | E12: ='表2-2(由實施者填寫)'!P15 -> 0 | F12: ='表2-2(由實施者填寫)'!U15 -> 0 | H12: ='表2-2(由實施者填寫)'!V15 -> 0 | I12: ='表2-2(由實施者填寫)'!W15 -> 0
A13: 9 | B13: ='表2-2(由實施者填寫)'!B16 -> 0 | C13: ='表2-2(由實施者填寫)'!R16 -> 0 | D13: ='表2-2(由實施者填寫)'!S16 -> 0 | E13: ='表2-2(由實施者填寫)'!P16 -> 0 | F13: ='表2-2(由實施者填寫)'!U16 -> 0 | H13: ='表2-2(由實施者填寫)'!V16 -> 0 | I13: ='表2-2(由實施者填寫)'!W16 -> 0
A14: 10 | B14: ='表2-2(由實施者填寫)'!B17 -> 0 | C14: ='表2-2(由實施者填寫)'!R17 -> 0 | D14: ='表2-2(由實施者填寫)'!S17 -> 0 | E14: ='表2-2(由實施者填寫)'!P17 -> 0 | F14: ='表2-2(由實施者填寫)'!U17 -> 0 | H14: ='表2-2(由實施者填寫)'!V17 -> 0 | I14: ='表2-2(由實施者填寫)'!W17 -> 0
A15: 11 | B15: ='表2-2(由實施者填寫)'!B18 -> 0 | C15: ='表2-2(由實施者填寫)'!R18 -> 0 | D15: ='表2-2(由實施者填寫)'!S18 -> 0 | E15: ='表2-2(由實施者填寫)'!P18 -> 0 | F15: ='表2-2(由實施者填寫)'!U18 -> 0 | H15: ='表2-2(由實施者填寫)'!V18 -> 0 | I15: ='表2-2(由實施者填寫)'!W18 -> 0
A16: 12 | B16: ='表2-2(由實施者填寫)'!B19 -> 0 | C16: ='表2-2(由實施者填寫)'!R19 -> 0 | D16: ='表2-2(由實施者填寫)'!S19 -> 0 | E16: ='表2-2(由實施者填寫)'!P19 -> 0 | F16: ='表2-2(由實施者填寫)'!U19 -> 0 | H16: ='表2-2(由實施者填寫)'!V19 -> 0 | I16: ='表2-2(由實施者填寫)'!W19 -> 0
... A204: 200 | B204: ='表2-2(由實施者填寫)'!B207 -> 0 | C204: ='表2-2(由實施者填寫)'!R207 -> 0 | D204: ='表2-2(由實施者填寫)'!S207 -> 0 | E204: ='表2-2(由實施者填寫)'!P207 -> 0 | F204: ='表2-2(由實施者填寫)'!U207 -> 0 | H204: ='表2-2(由實施者填寫)'!V207 -> 0 | I204: ='表2-2(由實施者填寫)'!W207 -> 0

Sheet 管制檔
A1: IDN_BAN | B1: FLG_DATE(申報日期) | C1: O_TOWN(原機關) | D1: O_LND_MARK(土地標示) | E1: O_REF_AREA(宗地面積) | F1: O_LNDPRC_YM(原地價年月) | G1: O_LNDPRC_PRC(原地價) | H1: NMRT(移轉持分分子) | I1: DNT(移轉持分分母) | J1: TRAN_TMS(都市更新型態 1.地主原有減徵2.實施者取得地主不願部份3.實施者取得地主不能部份) | K1: REMARK(備註)
A2: XXXXXXXXXX | B2: XXXXXXX | C2: XX | D2: XXXXXXXXXXXXXX | E2: XXXXXXXXX | F2: XXXXX | G2: XXXXXXX | H2: XXXXXXXXXXXXXXX | I2: XXXXXXXXXXXXXXX | J2: X | K2: X*2000
A3: ='表2-2(由實施者填寫)'!C8 -> 0 | E3: ='表2-2(由實施者填寫)'!N8 -> 0 | F3: ='表2-2(由實施者填寫)'!R8 -> 0 | G3: ='表2-2(由實施者填寫)'!S8 -> 0 | H3: ='表2-2(由實施者填寫)'!W8 -> 0 | I3: ='表2-2(由實施者填寫)'!$P$6 -> 100000 | J3: 1
A4: ='表2-2(由實施者填寫)'!C9 -> 0 | E4: ='表2-2(由實施者填寫)'!N9 -> 0 | F4: ='表2-2(由實施者填寫)'!R9 -> 0 | G4: ='表2-2(由實施者填寫)'!S9 -> 0 | H4: ='表2-2(由實施者填寫)'!W9 -> 0 | I4: ='表2-2(由實施者填寫)'!$P$6 -> 100000 | J4: 1
A5: ='表2-2(由實施者填寫)'!C10 -> 0 | E5: ='表2-2(由實施者填寫)'!N10 -> 0 | F5: ='表2-2(由實施者填寫)'!R10 -> 0 | G5: ='表2-2(由實施者填寫)'!S10 -> 0 | H5: ='表2-2(由實施者填寫)'!W10 -> 0 | I5: ='表2-2(由實施者填寫)'!$P$6 -> 100000 | J5: 1
A6: ='表2-2(由實施者填寫)'!C11 -> 0 | E6: ='表2-2(由實施者填寫)'!N11 -> 0 | F6: ='表2-2(由實施者填寫)'!R11 -> 0 | G6: ='表2-2(由實施者填寫)'!S11 -> 0 | H6: ='表2-2(由實施者填寫)'!W11 -> 0 | I6: ='表2-2(由實施者填寫)'!$P$6 -> 100000 | J6: 1
A7: ='表2-2(由實施者填寫)'!C12 -> 0 | E7: ='表2-2(由實施者填寫)'!N12 -> 0 | F7: ='表2-2(由實施者填寫)'!R12 -> 0 | G7: ='表2-2(由實施者填寫)'!S12 -> 0 | H7: ='表2-2(由實施者填寫)'!W12 -> 0 | I7: ='表2-2(由實施者填寫)'!$P$6 -> 100000 | J7: 1
A8: ='表2-2(由實施者填寫)'!C13 -> 0 | E8: ='表2-2(由實施者填寫)'!N13 -> 0 | F8: ='表2-2(由實施者填寫)'!R13 -> 0 | G8: ='表2-2(由實施者填寫)'!S13 -> 0 | H8: ='表2-2(由實施者填寫)'!W13 -> 0 | I8: ='表2-2(由實施者填寫)'!$P$6 -> 100000 | J8: 1
A9: ='表2-2(由實施者填寫)'!C14 -> 0 | E9: ='表2-2(由實施者填寫)'!N14 -> 0 | F9: ='表2-2(由實施者填寫)'!R14 -> 0 | G9: ='表2-2(由實施者填寫)'!S14 -> 0 | H9: ='表2-2(由實施者填寫)'!W14 -> 0 | I9: ='表2-2(由實施者填寫)'!$P$6 -> 100000 | J9: 1
A10: ='表2-2(由實施者填寫)'!C15 -> 0 | E10: ='表2-2(由實施者填寫)'!N15 -> 0 | F10: ='表2-2(由實施者填寫)'!R15 -> 0 | G10: ='表2-2(由實施者填寫)'!S15 -> 0 | H10: ='表2-2(由實施者填寫)'!W15 -> 0 | I10: ='表2-2(由實施者填寫)'!$P$6 -> 100000 | J10: 1
A11: ='表2-2(由實施者填寫)'!C16 -> 0 | E11: ='表2-2(由實施者填寫)'!N16 -> 0 | F11: ='表2-2(由實施者填寫)'!R16 -> 0 | G11: ='表2-2(由實施者填寫)'!S16 -> 0 | H11: ='表2-2(由實施者填寫)'!W16 -> 0 | I11: ='表2-2(由實施者填寫)'!$P$6 -> 100000 | J11: 1
A12: ='表2-2(由實施者填寫)'!C17 -> 0 | E12: ='表2-2(由實施者填寫)'!N17 -> 0 | F12: ='表2-2(由實施者填寫)'!R17 -> 0 | G12: ='表2-2(由實施者填寫)'!S17 -> 0 | H12: ='表2-2(由實施者填寫)'!W17 -> 0 | I12: ='表2-2(由實施者填寫)'!$P$6 -> 100000 | J12: 1
A13: ='表2-2(由實施者填寫)'!C18 -> 0 | E13: ='表2-2(由實施者填寫)'!N18 -> 0 | F13: ='表2-2(由實施者填寫)'!R18 -> 0 | G13: ='表2-2(由實施者填寫)'!S18 -> 0 | H13: ='表2-2(由實施者填寫)'!W18 -> 0 | I13: ='表2-2(由實施者填寫)'!$P$6 -> 100000 | J13: 1
A14: ='表2-2(由實施者填寫)'!C19 -> 0 | E14: ='表2-2(由實施者填寫)'!N19 -> 0 | F14: ='表2-2(由實施者填寫)'!R19 -> 0 | G14: ='表2-2(由實施者填寫)'!S19 -> 0 | H14: ='表2-2(由實施者填寫)'!W19 -> 0 | I14: ='表2-2(由實施者填寫)'!$P$6 -> 100000 | J14: 1
... A195: ='表2-2(由實施者填寫)'!C200 -> 0 | E195: ='表2-2(由實施者填寫)'!N200 -> 0 | F195: ='表2-2(由實施者填寫)'!R200 -> 0 | G195: ='表2-2(由實施者填寫)'!S200 -> 0 | H195: ='表2-2(由實施者填寫)'!W200 -> 0 | I195: ='表2-2(由實施者填寫)'!$P$6 -> 100000 | J195: 1
